BEGIN:VCALENDAR
VERSION:2.0
PRODID:-//STRAWANZERIN - ECPv4.9.5//NONSGML v1.0//EN
CALSCALE:GREGORIAN
METHOD:PUBLISH
X-WR-CALNAME:STRAWANZERIN
X-ORIGINAL-URL:https://www.strawanzerin.at
X-WR-CALDESC:Veranstaltungen im STRAWANZERIN
BEGIN:VTIMEZONE
TZID:"Europe/Vienna"
BEGIN:DAYLIGHT
TZOFFSETFROM:+0100
TZOFFSETTO:+0200
TZNAME:CEST
DTSTART:20240331T010000
END:DAYLIGHT
BEGIN:STANDARD
TZOFFSETFROM:+0200
TZOFFSETTO:+0100
TZNAME:CET
DTSTART:20241027T010000
END:STANDARD
END:VTIMEZONE
BEGIN:VEVENT
DTSTART;TZID="Europe/Vienna":20240515T200000
DTEND;TZID="Europe/Vienna":20240515T223000
DTSTAMP:20260422T121903
CREATED:20240507T134325Z
LAST-MODIFIED:20240507T134325Z
UID:98849-1715803200-1715812200@www.strawanzerin.at
SUMMARY:DerBlödeDritteMittwoch#138
DESCRIPTION:Eine Veranstaltung vom Verein für Kunstvermischung in Kooperation mit Theater am Werk \nDerBlödeDritteMittwoch präsentiert Positionen der zeitgenössischen Avantgarde im informellen Rahmen für ein breites Publikum in Form einer monatlichen Veranstaltungsreihe. Insbesondere widmet er sich den Genres (experimentelle) Musik\, Medienkunst\, Performance\, Video und angrenzenden Kunstsparten. Künstlerische Leitung: Anat Stainberg\, Arnold Haberl (aka noid). \nDer Name der Reihe DerBlödeDritteMittwoch bezieht sich auf das Buch Blödmaschinen von Markus Metz und Georg Seeßlen\, dessen kluger und engagierter Kritik an den kulturellen Dynamiken des Neoliberalismus DerBlödeDritteMittwoch immer noch viel abgewinnen kann. \nAbgesehen davon ist der Name leicht zu merken. Der Teil DritterMittwoch im Namen bezieht sich auf den bevorzugten Veranstaltungstermin. \nProgramm\n*** BRANDO ZORES SZELY [Konzert]\n*** Traurige Mädchenlieder // Jasmin Hoffer & Nicola Schößler [Konzert-Performance]\n*** Beyond the Beat // Judith Schwarz & Arthur Fussy [Konzert] \n
URL:https://www.strawanzerin.at/termin/derbloededrittemittwoch138/
LOCATION:Theater am Werk am Petersplatz\, Petersplatz 1\, Wien\, Wien\, 1010\, Österreich
CATEGORIES:Barrierefrei,Musik,Wien
ATTACH;FMTTYPE=image/jpeg:https://www.strawanzerin.at/wp-content/uploads/2024/05/BloederDritterMittwoch_TaW.jpg
ORGANIZER;CN="Theater%20am%20Werk":MAILTO:reservierung@theater-am-werk.at
END:VEVENT
END:VCALENDAR