BEGIN:VCALENDAR
VERSION:2.0
PRODID:-//STRAWANZERIN - ECPv4.9.5//NONSGML v1.0//EN
CALSCALE:GREGORIAN
METHOD:PUBLISH
X-WR-CALNAME:STRAWANZERIN
X-ORIGINAL-URL:https://www.strawanzerin.at
X-WR-CALDESC:Veranstaltungen im STRAWANZERIN
BEGIN:VTIMEZONE
TZID:"Europe/Vienna"
BEGIN:DAYLIGHT
TZOFFSETFROM:+0100
TZOFFSETTO:+0200
TZNAME:CEST
DTSTART:20250330T010000
END:DAYLIGHT
BEGIN:STANDARD
TZOFFSETFROM:+0200
TZOFFSETTO:+0100
TZNAME:CET
DTSTART:20251026T010000
END:STANDARD
END:VTIMEZONE
BEGIN:VEVENT
DTSTART;TZID="Europe/Vienna":20250521T200000
DTEND;TZID="Europe/Vienna":20250521T200000
DTSTAMP:20260421T180743
CREATED:20250327T130135Z
LAST-MODIFIED:20250327T130135Z
UID:106892-1747857600-1747857600@www.strawanzerin.at
SUMMARY:DerBlödeDritteMittwoch#148
DESCRIPTION:Eine Veranstaltung vom Verein für Kunstvermischung in Kooperation mit Theater am Werk \nDerBlödeDritteMittwoch präsentiert Positionen der zeitgenössischen Avantgarde im informellen Rahmen für ein breites Publikum in Form einer monatlichen Veranstaltungsreihe. Insbesondere widmet er sich den Genres (experimentelle) Musik\, Medienkunst\, Performance\, Video und angrenzenden Kunstsparten. Künstlerische Leitung: Anat Stainberg\, Arnold Haberl (aka noid).\nDer Name der Reihe DerBlödeDritteMittwoch bezieht sich auf das Buch Blödmaschinen von Markus Metz und Georg Seeßlen\, dessen kluger und engagierter Kritik an den kulturellen Dynamiken des Neoliberalismus DerBlödeDritteMittwoch immer noch viel abgewinnen kann.\nAbgesehen davon ist der Name leicht zu merken. Der Teil DritterMittwoch im Namen bezieht sich auf den bevorzugten Veranstaltungstermin. \n
URL:https://www.strawanzerin.at/termin/derbloededrittemittwoch148/
LOCATION:Theater am Werk am Petersplatz\, Petersplatz 1\, Wien\, Wien\, 1010\, Österreich
CATEGORIES:Musik
ATTACH;FMTTYPE=image/jpeg:https://www.strawanzerin.at/wp-content/uploads/2025/03/BloederDritterMittwoch-1.jpg
ORGANIZER;CN="Theater%20am%20Werk":MAILTO:reservierung@theater-am-werk.at
END:VEVENT
END:VCALENDAR