BEGIN:VCALENDAR
VERSION:2.0
PRODID:-//STRAWANZERIN - ECPv4.9.5//NONSGML v1.0//EN
CALSCALE:GREGORIAN
METHOD:PUBLISH
X-WR-CALNAME:STRAWANZERIN
X-ORIGINAL-URL:https://www.strawanzerin.at
X-WR-CALDESC:Veranstaltungen im STRAWANZERIN
BEGIN:VTIMEZONE
TZID:"Europe/Helsinki"
BEGIN:DAYLIGHT
TZOFFSETFROM:+0200
TZOFFSETTO:+0300
TZNAME:EEST
DTSTART:20160327T010000
END:DAYLIGHT
BEGIN:STANDARD
TZOFFSETFROM:+0300
TZOFFSETTO:+0200
TZNAME:EET
DTSTART:20161030T010000
END:STANDARD
END:VTIMEZONE
BEGIN:VEVENT
DTSTART;TZID="Europe/Helsinki":20161106T113000
DTEND;TZID="Europe/Helsinki":20161106T130000
DTSTAMP:20260420T133631
CREATED:20161010T123019Z
LAST-MODIFIED:20161010T152947Z
UID:34692-1478431800-1478437200@www.strawanzerin.at
SUMMARY:Des is a Hetz und kost net viel: Wienerische Matinée mit Clemens Schaller
DESCRIPTION:Wo einst der legendäre Heinz Conrads als Stammgast echte Wiener Gastlichkeit genoss\, erinnert heute noch ein uriges Stüberl an den großen Publikumsliebling. Hier im Meidlinger Gasthaus »Zum Piano« lebt das typisch Wienerische aus Küche und Kultur auch im 21. Jahrhundert fröhlich fort: Am Sonntag\, 6. November 2016\, 11:30 Uhr\, spielt und singt Pianist und Sänger Clemens Schaller Lustiges von Hermann Leopoldi\, Pirron & Knapp und Georg Kreisler. Hinzu kommen Eigenkompositionen und Mundartgedichte. Der Eintritt ist frei! Reservierung: Tel. 0681 811 44938. \nBild: Clemens Schaller\, Foto/© Julia Wesely \n
URL:https://www.strawanzerin.at/termin/des-is-a-hetz-und-kost-net-viel-wienerische-matinee-mit-clemens-schaller-2/
LOCATION:Gasthaus Zum Piano\, Pohlgasse 21\, Wien\, Wien\, 1120\, Österreich
CATEGORIES:Deutsch,Gratis,Kunst/Kultur,Musik,Wien
ATTACH;FMTTYPE=image/jpeg:https://www.strawanzerin.at/wp-content/uploads/2016/10/Clemens_Schaller-14-Kopie.jpg
GEO:48.1784733;16.3248117
X-APPLE-STRUCTURED-LOCATION;VALUE=URI;X-ADDRESS=Gasthaus Zum Piano Pohlgasse 21 Wien Wien 1120 Österreich;X-APPLE-RADIUS=500;X-TITLE=Pohlgasse 21:geo:16.3248117,48.1784733
END:VEVENT
END:VCALENDAR