BEGIN:VCALENDAR
VERSION:2.0
PRODID:-//STRAWANZERIN - ECPv4.9.5//NONSGML v1.0//EN
CALSCALE:GREGORIAN
METHOD:PUBLISH
X-WR-CALNAME:STRAWANZERIN
X-ORIGINAL-URL:https://www.strawanzerin.at
X-WR-CALDESC:Veranstaltungen im STRAWANZERIN
BEGIN:VTIMEZONE
TZID:"Europe/Paris"
BEGIN:DAYLIGHT
TZOFFSETFROM:+0100
TZOFFSETTO:+0200
TZNAME:CEST
DTSTART:20150329T010000
END:DAYLIGHT
BEGIN:STANDARD
TZOFFSETFROM:+0200
TZOFFSETTO:+0100
TZNAME:CET
DTSTART:20151025T010000
END:STANDARD
END:VTIMEZONE
BEGIN:VEVENT
DTSTART;TZID="Europe/Paris":20150919T110000
DTEND;TZID="Europe/Paris":20150919T180000
DTSTAMP:20260421T233932
CREATED:20150812T142647Z
LAST-MODIFIED:20150819T091044Z
UID:19057-1442660400-1442685600@www.strawanzerin.at
SUMMARY:DESIGNMARKT Edelstoff★08
DESCRIPTION:120 DesignerInnen\, gute Musik & Wiens bestes Streetfood. Ein Fixtermin für alle\, die gerne in entspannter Atmosphäre flanieren und Neues entdecken… zu sehen & zu kaufen gibt es Accessoires\, Mode\, Schmuck\, Produktdesign\, Kids Design und Kunst. \nEintritt: 3 Euro\, Kinder gratis \n
URL:https://www.strawanzerin.at/termin/designmarkt-edelstoff%e2%98%8508/2015-09-19/
LOCATION:ANKER EXPEDITHALLE\, Puchsbaumgasse 1C\, Wien \, Wien \, 1100\, Österreich
CATEGORIES:Ausstellung,bis 7,Deutsch,Sonstiges,Wien
ATTACH;FMTTYPE=:
ORGANIZER;CN="DESIGNMARKT%20Edelstoff":MAILTO:office@edelstoff.or.at
GEO:48.17182;16.3911993
X-APPLE-STRUCTURED-LOCATION;VALUE=URI;X-ADDRESS=ANKER EXPEDITHALLE Puchsbaumgasse 1C Wien  Wien  1100 Österreich;X-APPLE-RADIUS=500;X-TITLE=Puchsbaumgasse 1C:geo:16.3911993,48.17182
END:VEVENT
END:VCALENDAR