BEGIN:VCALENDAR
VERSION:2.0
PRODID:-//STRAWANZERIN - ECPv4.9.5//NONSGML v1.0//EN
CALSCALE:GREGORIAN
METHOD:PUBLISH
X-WR-CALNAME:STRAWANZERIN
X-ORIGINAL-URL:https://www.strawanzerin.at
X-WR-CALDESC:Veranstaltungen im STRAWANZERIN
BEGIN:VTIMEZONE
TZID:"Europe/Vienna"
BEGIN:DAYLIGHT
TZOFFSETFROM:+0100
TZOFFSETTO:+0200
TZNAME:CEST
DTSTART:20260329T010000
END:DAYLIGHT
BEGIN:STANDARD
TZOFFSETFROM:+0200
TZOFFSETTO:+0100
TZNAME:CET
DTSTART:20261025T010000
END:STANDARD
END:VTIMEZONE
BEGIN:VEVENT
DTSTART;TZID="Europe/Vienna":20260225T190000
DTEND;TZID="Europe/Vienna":20260225T210000
DTSTAMP:20260421T121356
CREATED:20260128T142232Z
LAST-MODIFIED:20260128T142232Z
UID:112123-1772046000-1772053200@www.strawanzerin.at
SUMMARY:Dido and Aeneas
DESCRIPTION:Troja brennt und Aeneas flieht zusammen mit seinen Gefährten aus der verlorenen Stadt in Richtung italienischer Küste. Während der Überfahrt über das Mittelmeer macht er Halt in Karthago\, wo er von Dido\, der legendären Gründerin und ersten Königin Karthagos\, empfangen wird. Zwischen den beiden entsteht eine leidenschaftliche Liebesgeschichte. So beschreibt es zumindest Vergil in seinem Epos „Aeneis”.\nIn dem Libretto von Nahum Tate\, das Henry Purcells Oper zugrunde liegt\, wird die Handlung – in bester englischer Tradition – um Geister\, Hexen und Zauberinnen bereichert\, die sich im Verborgenen gegen die Königin von Karthago und ihre Liebe verschwören. Ein Happy End gibt’s in beiden Versionen nicht: Aeneas verlässt Karthago\, um Lavinium zu gründen\, und Dido nimmt sich das Leben. \nDas Arcturos Barockorchester und der Landesjugendchor Niederösterreich tauchen ein in die wohl bekannteste englische Barockoper\, die von unbeschwerten Tänzen über boshafte Hexen bis hin zu gefühlvollen Arien alles zu bieten hat. Die Einführung ins England des 17. Jahrhunderts hält Alexander Flor. \n
URL:https://www.strawanzerin.at/termin/dido-and-aeneas/
LOCATION:1140\, Lorely Saal\, Penzinger Str. 72\, Wien\, Wien\, 1140\, Österreich
CATEGORIES:Englisch,Musik,Wien
ATTACH;FMTTYPE=image/jpeg:https://www.strawanzerin.at/wp-content/uploads/2026/01/Quadrat-OEticket-Dido-scaled.jpg
ORGANIZER;CN="Kulturverein%20Constellations":MAILTO:office@constellations.at
END:VEVENT
END:VCALENDAR