BEGIN:VCALENDAR
VERSION:2.0
PRODID:-//STRAWANZERIN - ECPv4.9.5//NONSGML v1.0//EN
CALSCALE:GREGORIAN
METHOD:PUBLISH
X-WR-CALNAME:STRAWANZERIN
X-ORIGINAL-URL:https://www.strawanzerin.at
X-WR-CALDESC:Veranstaltungen im STRAWANZERIN
BEGIN:VTIMEZONE
TZID:"Europe/Vienna"
BEGIN:DAYLIGHT
TZOFFSETFROM:+0100
TZOFFSETTO:+0200
TZNAME:CEST
DTSTART:20240331T010000
END:DAYLIGHT
BEGIN:STANDARD
TZOFFSETFROM:+0200
TZOFFSETTO:+0100
TZNAME:CET
DTSTART:20241027T010000
END:STANDARD
END:VTIMEZONE
BEGIN:VEVENT
DTSTART;TZID="Europe/Vienna":20241027T180000
DTEND;TZID="Europe/Vienna":20241027T200000
DTSTAMP:20260420T231602
CREATED:20240624T100422Z
LAST-MODIFIED:20240624T100422Z
UID:100138-1730052000-1730059200@www.strawanzerin.at
SUMMARY:Die "ABBA-Show"
DESCRIPTION:Die „ABBA – SHOW.\nmit der Abba – Coverband von Dolce Vita\nSupertrouper\, Mama Mia\, Waterloo …\nwer kennt sie nicht\, die größten Hits der schwedischen Kultband ABBA?\n1974 gewann die schwedische Kultband den Songcontest und wurde eine der weltweit populärsten Musikgruppen ihrer Zeit. \nMit fast 400 Millionen verkauften Tonträgern gehört ABBA zu den erfolgreichsten Bands der Musikgeschichte und begeistert nach wie vor beim Publikum alle Altersgruppen. In dieser ABBA Musik – Show präsentiert das Dolce Vita Quartett (mit 2 fantastischen Sängerinnen und Musikern in original Kostümen) ein perfektes und vor allem mitreißendes Konzert. \nGrandiose Stimmung und Gänsehaut-Feeling sind dabei garantiert! Die ABBA Show: Ein Erlebnis für die ganze Familie – für jung und alt. \nDie Besetzung: \nGabi – Agnetha \nMark – Björn \nJoe – Benny \nMartina – Anni-Frid \n
URL:https://www.strawanzerin.at/termin/die-abba-show/
LOCATION:Papierfabrik Varieté\, Kirchenplatz 9\, Kleinneusiedl\, Niederösterreich\, 2431
CATEGORIES:Musik,Niederösterreich
ATTACH;FMTTYPE=image/jpeg:https://www.strawanzerin.at/wp-content/uploads/2024/06/ticket-Thumbnail.jpg
ORGANIZER;CN="Papierfabrik%20Variet%C3%A9":MAILTO:info@papierfabrik-variete.com
END:VEVENT
END:VCALENDAR