BEGIN:VCALENDAR
VERSION:2.0
PRODID:-//STRAWANZERIN - ECPv4.9.5//NONSGML v1.0//EN
CALSCALE:GREGORIAN
METHOD:PUBLISH
X-WR-CALNAME:STRAWANZERIN
X-ORIGINAL-URL:https://www.strawanzerin.at
X-WR-CALDESC:Veranstaltungen im STRAWANZERIN
BEGIN:VTIMEZONE
TZID:"Europe/Vienna"
BEGIN:DAYLIGHT
TZOFFSETFROM:+0100
TZOFFSETTO:+0200
TZNAME:CEST
DTSTART:20180325T010000
END:DAYLIGHT
BEGIN:STANDARD
TZOFFSETFROM:+0200
TZOFFSETTO:+0100
TZNAME:CET
DTSTART:20181028T010000
END:STANDARD
END:VTIMEZONE
BEGIN:VEVENT
DTSTART;TZID="Europe/Vienna":20180216T190000
DTEND;TZID="Europe/Vienna":20180216T220000
DTSTAMP:20260420T222538
CREATED:20180115T085543Z
LAST-MODIFIED:20180115T085543Z
UID:51566-1518807600-1518818400@www.strawanzerin.at
SUMMARY:Die Banane schält sich nicht alleine. Jour fixe am 16. im 16.
DESCRIPTION:Die Banane schält sich nicht alleine – Autorenlesung\neine erotisch-vergnügliche feministisch-männliche Phantasie-Reise…präsentiert von\nDaniela NOITZ & Hans HARTEL\nErotisches – Vernissage\nWolfgang BÄUML „Symbiosen“ – analoge Fotografie\nSilvia EHRENREICH „Akte“ – Mixed Media\nDie Ausstellung ist bis Mitte März 2018 täglich von 10 – 2 Uhr zu besichtigen. \n
URL:https://www.strawanzerin.at/termin/die-banane-schaelt-sich-nicht-alleine-jour-fixe-am-16-im-16/
LOCATION:C.I.\, Payergasse 14\, Wien\, 1160\, Österreich
CATEGORIES:Ausstellung,Literatur
ATTACH;FMTTYPE=image/jpeg:https://www.strawanzerin.at/wp-content/uploads/2018/01/2018_02_16-beide-web.jpg
ORGANIZER;CN="Ursula%20Pfeiffer%20verein%20%3A%3Akunst-projekte%3A%3A%20der%20%5Bgalerie%5Dstudio38%20zvr%20123612155":MAILTO:office@galeriestudio38.at
GEO:48.214028;16.3360076
X-APPLE-STRUCTURED-LOCATION;VALUE=URI;X-ADDRESS=C.I. Payergasse 14 Wien 1160 Österreich;X-APPLE-RADIUS=500;X-TITLE=Payergasse 14:geo:16.3360076,48.214028
END:VEVENT
END:VCALENDAR