BEGIN:VCALENDAR
VERSION:2.0
PRODID:-//STRAWANZERIN - ECPv4.9.5//NONSGML v1.0//EN
CALSCALE:GREGORIAN
METHOD:PUBLISH
X-WR-CALNAME:STRAWANZERIN
X-ORIGINAL-URL:https://www.strawanzerin.at
X-WR-CALDESC:Veranstaltungen im STRAWANZERIN
BEGIN:VTIMEZONE
TZID:"Europe/Vienna"
BEGIN:DAYLIGHT
TZOFFSETFROM:+0100
TZOFFSETTO:+0200
TZNAME:CEST
DTSTART:20190331T010000
END:DAYLIGHT
BEGIN:STANDARD
TZOFFSETFROM:+0200
TZOFFSETTO:+0100
TZNAME:CET
DTSTART:20191027T010000
END:STANDARD
END:VTIMEZONE
BEGIN:VEVENT
DTSTART;TZID="Europe/Vienna":20190119T200000
DTEND;TZID="Europe/Vienna":20190119T230000
DTSTAMP:20260420T120846
CREATED:20190109T094112Z
LAST-MODIFIED:20190119T104640Z
UID:61687-1547928000-1547938800@www.strawanzerin.at
SUMMARY:Die Blues Buam
DESCRIPTION:Wüsste man es nicht besser\, könnte man meinen sie wären gerade aus den Südstaaten eingeflogen. Die Blues Buam sind fünf „Buam“ (= österreichisch für Buben\, Jungs\, Knaben\, Boys) mittleren Alters aus Wien und Umgebung. Die Band besteht seit dem Jahr 2004.\nIhr mehrstimmiger Gesang und das harmonische Zusammenspiel der drei Gitarren wird oft als außergewöhnlich bezeichnet. Ihre Freude an der Musik ist spürbar. Offensichtlich inspiriert durch die Woodstock-Ära\, bieten sie auch ein optisches Erlebnis. \nSchaut man sich das Publikum der Blues Buam an\, so findet man Fans aller Altersklassen\, die sich von ihrer Musik angesprochen fühlen: Bluesrock\, inspiriert durch die Hits der 1960er und 1970er Jahre\, mit einem Hauch von Hippie-Craziness und Südstaatenflair. \nDie Blues Buam spielen hauptsächlich Eigenkompositionen. Ihre Themen sind vielfältig\, sie reichen von Exzess und Leid bis zu Lebensfreude und Liebe. Klassiker von Buddy Guy oder den Rolling Stones interpretieren sie auf ihre ganz eigene Weise. \nBei ihren Auftritten geben sie meistens Vollgas („ … I put the pedal to the metal …“)\, beherrschen aber auch die leisen Töne und verführen mit poetischen Balladen zum Träumen und Nachdenken („ … may your life be a silent river …“). \n
URL:https://www.strawanzerin.at/termin/die-blues-buam-5/
LOCATION:Tunnel Vienna Live\, Florianigasse 39\, 1080\, Wien\, 1080\, Österreich
CATEGORIES:Musik
ATTACH;FMTTYPE=image/jpeg:https://www.strawanzerin.at/wp-content/uploads/2019/01/BB1.jpg
GEO:48.2118651;16.3481975
X-APPLE-STRUCTURED-LOCATION;VALUE=URI;X-ADDRESS=Tunnel Vienna Live Florianigasse 39 1080 Wien 1080 Österreich;X-APPLE-RADIUS=500;X-TITLE=Florianigasse 39:geo:16.3481975,48.2118651
END:VEVENT
END:VCALENDAR