BEGIN:VCALENDAR
VERSION:2.0
PRODID:-//STRAWANZERIN - ECPv4.9.5//NONSGML v1.0//EN
CALSCALE:GREGORIAN
METHOD:PUBLISH
X-WR-CALNAME:STRAWANZERIN
X-ORIGINAL-URL:https://www.strawanzerin.at
X-WR-CALDESC:Veranstaltungen im STRAWANZERIN
BEGIN:VTIMEZONE
TZID:"Europe/Vienna"
BEGIN:DAYLIGHT
TZOFFSETFROM:+0100
TZOFFSETTO:+0200
TZNAME:CEST
DTSTART:20180325T010000
END:DAYLIGHT
BEGIN:STANDARD
TZOFFSETFROM:+0200
TZOFFSETTO:+0100
TZNAME:CET
DTSTART:20181028T010000
END:STANDARD
END:VTIMEZONE
BEGIN:VEVENT
DTSTART;TZID="Europe/Vienna":20181118T120000
DTEND;TZID="Europe/Vienna":20181118T150000
DTSTAMP:20260420T152347
CREATED:20181107T081101Z
LAST-MODIFIED:20181107T081101Z
UID:60526-1542542400-1542553200@www.strawanzerin.at
SUMMARY:Die Galerie Sandpeck Wien 8 zeigt „Klare Linie“
DESCRIPTION:Editha Taferner und Eduard Diem\npräsentieren ihre „Klare Linie“\nVernissage mit Brunch: Sonntag 18.11.2018 um 12Uhr\neinführende Worte: Prof.Gotthard Fellerer und Erich Peischl Ausstellung bis 23.11.2018 täglich von 14-19Uhr\nfreier Eintritt!\nmehr www.sandpeck.com \n
URL:https://www.strawanzerin.at/termin/die-galerie-sandpeck-wien-8-zeigt-klare-linie/2018-11-18/
LOCATION:Galerie Sandpeck\, Florianigasse 75\, Wien\, Wien\, 1080\, Österreich
CATEGORIES:Ausstellung,Deutsch,Gratis,Kunst/Kultur,Wien
ATTACH;FMTTYPE=image/jpeg:https://www.strawanzerin.at/wp-content/uploads/2018/11/PR_Diem_Taferner_300.jpg
ORGANIZER;CN="Galerie%20Sandpeck%20Wien%208":MAILTO:christiane@sandpeck.com
GEO:48.2119839;16.3409609
X-APPLE-STRUCTURED-LOCATION;VALUE=URI;X-ADDRESS=Galerie Sandpeck Florianigasse 75 Wien Wien 1080 Österreich;X-APPLE-RADIUS=500;X-TITLE=Florianigasse 75:geo:16.3409609,48.2119839
END:VEVENT
END:VCALENDAR