BEGIN:VCALENDAR
VERSION:2.0
PRODID:-//STRAWANZERIN - ECPv4.9.5//NONSGML v1.0//EN
CALSCALE:GREGORIAN
METHOD:PUBLISH
X-WR-CALNAME:STRAWANZERIN
X-ORIGINAL-URL:https://www.strawanzerin.at
X-WR-CALDESC:Veranstaltungen im STRAWANZERIN
BEGIN:VTIMEZONE
TZID:"Europe/Helsinki"
BEGIN:DAYLIGHT
TZOFFSETFROM:+0200
TZOFFSETTO:+0300
TZNAME:EEST
DTSTART:20150329T010000
END:DAYLIGHT
BEGIN:STANDARD
TZOFFSETFROM:+0300
TZOFFSETTO:+0200
TZNAME:EET
DTSTART:20151025T010000
END:STANDARD
END:VTIMEZONE
BEGIN:VEVENT
DTSTART;TZID="Europe/Helsinki":20151202T200000
DTEND;TZID="Europe/Helsinki":20151202T220000
DTSTAMP:20260423T162224
CREATED:20151111T142831Z
LAST-MODIFIED:20151125T131752Z
UID:21798-1449086400-1449093600@www.strawanzerin.at
SUMMARY:Die Große Häfenelegie - Harald Pesata & Olga Minski
DESCRIPTION:Letzte Vorstellung der Häfenelegie für heuer\, dann heißt’s wieder bis zum nächsten Herbst warten.  \nWir freuen uns\, dass sie im Industrie stattfindet\, denn wenn die Wiener Kabarettistin\, Pianistin und Songwriterin Olga Minski und der Wiener Autor\, Satiriker und Mundarterzähler Harald Pesata gemeinsam auf der Bühne stehen\, um Herwig Seeböcks „Große Häfenelegie“ aufzuführen\, dann ist ein Abend mit lachtränenfeuchten Augen vorprogrammiert.  \nHarald Pesata führt als Erzähler durch diese humorvolle Geschichte des Gefängnisalltags des Jahres 1964\, gleichzeitig stellt er sämtliche handelnde Personen selbst dar. Ob Haflinger (Gefängnisinsassen) oder KAS (Justizwachebeamte)\, Pesata reichen eine Häftlingsmütze\, eine Schirmkappe der Justizwache\, seine Stimme und seine Mimik\, um den verschiedenen Charakteren mit ihren unterschiedlichen Welt- und Rechtsanschauungen für einen Abend wieder neues Leben einzuhauchen. \nOlga Minski hat eigens für dieses Stück ihre „Häfenlieder“ komponiert und getextet\, die sie geschickt in die Handlung einflechtet. In ihrer bekannt feinfühligen\, aber auch sehr spitzzüngigen geradlinigen Art\, spielt und singt sie von den kleineren und größeren Alltagsfreuden der kleinen Frau und des kleinen Mannes von der Straße; aber auch die Sorgen der Menschen und deren Abgründe selbst verschweigt sie nicht. \nMehr über Olga Minski: www.olgaminski.com\nMehr über Harald Pesata: www.pesata.at \n
URL:https://www.strawanzerin.at/termin/die-grosse-haefenelegie-harald-pesata-olga-minski/
LOCATION:Traditionscafé Industrie\, Margaretengürtel 12\, Wien\, Wien\, 1050\, Österreich
CATEGORIES:Deutsch,freie Spende,Kunst/Kultur,Theater/Kabarett,Wien
ATTACH;FMTTYPE=image/jpeg:https://www.strawanzerin.at/wp-content/uploads/2015/11/industrie_fb.jpg
ORGANIZER;CN="Ruth%20Binder":MAILTO:event@cafe-industrie.at
GEO:48.1838252;16.3664539
X-APPLE-STRUCTURED-LOCATION;VALUE=URI;X-ADDRESS=Traditionscafé Industrie Margaretengürtel 12 Wien Wien 1050 Österreich;X-APPLE-RADIUS=500;X-TITLE=Margaretengürtel 12:geo:16.3664539,48.1838252
END:VEVENT
END:VCALENDAR