BEGIN:VCALENDAR
VERSION:2.0
PRODID:-//STRAWANZERIN - ECPv4.9.5//NONSGML v1.0//EN
CALSCALE:GREGORIAN
METHOD:PUBLISH
X-WR-CALNAME:STRAWANZERIN
X-ORIGINAL-URL:https://www.strawanzerin.at
X-WR-CALDESC:Veranstaltungen im STRAWANZERIN
BEGIN:VTIMEZONE
TZID:"Europe/Vienna"
BEGIN:DAYLIGHT
TZOFFSETFROM:+0100
TZOFFSETTO:+0200
TZNAME:CEST
DTSTART:20170326T010000
END:DAYLIGHT
BEGIN:STANDARD
TZOFFSETFROM:+0200
TZOFFSETTO:+0100
TZNAME:CET
DTSTART:20171029T010000
END:STANDARD
END:VTIMEZONE
BEGIN:VEVENT
DTSTART;TZID="Europe/Vienna":20171118T150000
DTEND;TZID="Europe/Vienna":20171118T163000
DTSTAMP:20260419T115659
CREATED:20171112T153744Z
LAST-MODIFIED:20171113T093639Z
UID:49242-1511017200-1511022600@www.strawanzerin.at
SUMMARY:Die Höhle. Kinderbuchlesung ab 6
DESCRIPTION:Worum geht es? Eine Höhle aus Decken und Sesseln zu bauen\, ist lustig. Viel lustiger noch ist\, was Hannah und Leo alles entdecken in ihrer Höhle\, die innen um einiges größer ist\, als man von außen sieht. Sie treffen haufenweise schrullige Figuren\, und ganz plötzlich jemanden\, den sie schon sehr vermisst haben. \nWas soll man mitbringen? Eine robuste Hose! Denn gelesen – und angeschaut – wird eine quer über den Boden ausgerollte 12m-Buchrolle aus dem Verlag RoundNotSquare.  \nEs lesen Liza Sontheim und Eva Liedauer. \n
URL:https://www.strawanzerin.at/termin/die-hoehle-kinderbuchlesung-ab-6/
LOCATION:Multilinguale Kinderbuchhandlung Fabelwelt\, Schleifmühlgasse 6-8\, Wien\, 1040\, Österreich
CATEGORIES:Deutsch,Gratis,Kinderkultur,Wien
ATTACH;FMTTYPE=image/jpeg:https://www.strawanzerin.at/wp-content/uploads/2017/11/Promotionbild.jpg
GEO:48.1967717;16.3661819
X-APPLE-STRUCTURED-LOCATION;VALUE=URI;X-ADDRESS=Multilinguale Kinderbuchhandlung Fabelwelt Schleifmühlgasse 6-8 Wien 1040 Österreich;X-APPLE-RADIUS=500;X-TITLE=Schleifmühlgasse 6-8:geo:16.3661819,48.1967717
END:VEVENT
END:VCALENDAR