BEGIN:VCALENDAR
VERSION:2.0
PRODID:-//STRAWANZERIN - ECPv4.9.5//NONSGML v1.0//EN
CALSCALE:GREGORIAN
METHOD:PUBLISH
X-WR-CALNAME:STRAWANZERIN
X-ORIGINAL-URL:https://www.strawanzerin.at
X-WR-CALDESC:Veranstaltungen im STRAWANZERIN
BEGIN:VTIMEZONE
TZID:"Europe/Vienna"
BEGIN:DAYLIGHT
TZOFFSETFROM:+0100
TZOFFSETTO:+0200
TZNAME:CEST
DTSTART:20260329T010000
END:DAYLIGHT
BEGIN:STANDARD
TZOFFSETFROM:+0200
TZOFFSETTO:+0100
TZNAME:CET
DTSTART:20261025T010000
END:STANDARD
END:VTIMEZONE
BEGIN:VEVENT
DTSTART;TZID="Europe/Vienna":20260217T180000
DTEND;TZID="Europe/Vienna":20260217T193000
DTSTAMP:20260420T145215
CREATED:20260205T091555Z
LAST-MODIFIED:20260205T091555Z
UID:112335-1771351200-1771356600@www.strawanzerin.at
SUMMARY:Die Linke und der liebe Gott: Christlicher Fundamentalismus
DESCRIPTION:Die IG Theoprax von LINKS Wien tastet sich an die politische Theorie des Postfundamentalismus heran. Wir haben die Hoffnung\, mit Hilfe des postfundamentalistischen Ansatzes häufig auftretende Bruchstellen innerhalb der Linken besser bearbeiten zu können. Inspiriert durch die Veranstaltung „Gott\, Volk\, Markt\, Marx: Auswege aus Fundamentalismus und Polarisierung“  wollen wir uns in den nächsten Monaten einigen Motivationen für feste (Glaubens-)Überzeugungen widmen\, die zu theoretischem wie praktischem Fundamentalismus neigen und damit gerade auch die Linke spalten. Entlang versierter Inputs möchten wir erkunden\, welche dieser Motivationen wir aus linker Perspektive tatsächlich brauchen können\, was wir ablehnen\, mit wem wir zusammenarbeiten wollen und mit wem ein Streit sich lohnt. All das erhebt postfundamentalistisch betrachtet nicht den Anspruch auf Vollständigkeit oder Letztgültigkeit. Es soll uns vielmehr dem Ziel näherbringen\, linke Politik möglichst attraktiv\, inklusiv\, wirkungs- und lustvoll zu gestalten. \nWir beginnen dabei mit christlich inspiriertem Fundamentalismus. Dieser wurde in den letzten Jahrzehnten immer stärker und einfallsreicher – und von Rechten und Rechtsextremen für ihre reaktionäre Politik instrumentalisiert. Ist dieser wachsende Zuspruch zu antiegalitären\, autoritären und patriarchalen christlichen Fundamentalismen etwa auch ein Krisenphänomen? Mit der Sozialethikerin und katholischen Theologin Linda Kreuzer schauen wir uns aktuelle fundamentalistische Entwicklungen von Podcast-Prediger*innen bis Christfluencer*innen an. Wir möchten wissen\, was an ihnen besonders gefährlich ist und überlegen\, wie wir mit ihrem wachsenden (auch geopolitischen) Einfluss umgehen sollen. Und: Was können wir dem entgegnen? \nWandel-Büro\nStuckgasse 9/1B Wien 1070  \n
URL:https://www.strawanzerin.at/termin/die-linke-und-der-liebe-gott-christlicher-fundamentalismus/
LOCATION:Wandel\, Stuckgasse 9/1B\, 1070 Wien\, Stuckgasse 9/1B\, Wien\, 1070
ATTACH;FMTTYPE=image/jpeg:https://www.strawanzerin.at/wp-content/uploads/2026/02/Die-Linke-und-der-liebe-Gott-1.jpg
ORGANIZER;CN="LINKS":MAILTO:kontakt@links-wien.at
END:VEVENT
END:VCALENDAR