BEGIN:VCALENDAR
VERSION:2.0
PRODID:-//STRAWANZERIN - ECPv4.9.5//NONSGML v1.0//EN
CALSCALE:GREGORIAN
METHOD:PUBLISH
X-WR-CALNAME:STRAWANZERIN
X-ORIGINAL-URL:https://www.strawanzerin.at
X-WR-CALDESC:Veranstaltungen im STRAWANZERIN
BEGIN:VTIMEZONE
TZID:"Europe/Helsinki"
BEGIN:DAYLIGHT
TZOFFSETFROM:+0200
TZOFFSETTO:+0300
TZNAME:EEST
DTSTART:20150329T010000
END:DAYLIGHT
BEGIN:STANDARD
TZOFFSETFROM:+0300
TZOFFSETTO:+0200
TZNAME:EET
DTSTART:20151025T010000
END:STANDARD
END:VTIMEZONE
BEGIN:VEVENT
DTSTART;TZID="Europe/Helsinki":20150314T190000
DTEND;TZID="Europe/Helsinki":20150314T210000
DTSTAMP:20260422T001229
CREATED:20150216T135248Z
LAST-MODIFIED:20150219T172650Z
UID:11271-1426359600-1426366800@www.strawanzerin.at
SUMMARY:Die Milchrebellen
DESCRIPTION:Im März 2015 fällt mit dem EU-weiten Ende der Milchquote\, die Milchmengen begrenzt hat\, der letzte Schutz für die europäischen Kleinbauern und -bäuerinnen. Ist der Milchmarkt liberalisiert\, drohen Überproduktion und Preisverfall. Im letzten Jahrzehnt musste ein Drittel der deutschen Milchbauern aufgeben – gleichzeitig hat die Zahl der Megabetriebe zugenommen. Multinationale Konzerne haben kleinere regionale Molkereien übernommen und exportieren Milch bis nach China. \nAber einige Milchbauern wehren sich gegen die Konzentrationswelle auf dem Milchmarkt: Sie setzen auf direkte Vermarktung zu besseren Preisen und gründen Bauernmolkereien\, um sich vom Preisdiktat der Giganten zu lösen. \nFilmgespräch mit:\nErnst Halbmayr\, IG-Milch\nLudwig Rumetshofer\, ÖBV-Via Campesina Austria \n
URL:https://www.strawanzerin.at/termin/die-milchrebellen/
LOCATION:TOP KINO\, Rahlgasse 1 (Ecke Theobaldgasse) \, Wien\, 1060\, Österreich
CATEGORIES:Deutsch,Eintrittspreis,Film,Soziale Kämpfe,Wien
ATTACH;FMTTYPE=image/jpeg:https://www.strawanzerin.at/wp-content/uploads/2015/02/Milchrebellen_web2.jpg
ORGANIZER;CN="Hunger.Macht.Profite.7":MAILTO:info[at]hungermachtprofite.at
GEO:48.2004983;16.3603239
X-APPLE-STRUCTURED-LOCATION;VALUE=URI;X-ADDRESS=TOP KINO Rahlgasse 1 (Ecke Theobaldgasse)  Wien 1060 Österreich;X-APPLE-RADIUS=500;X-TITLE=Rahlgasse 1 (Ecke Theobaldgasse):geo:16.3603239,48.2004983
END:VEVENT
END:VCALENDAR