BEGIN:VCALENDAR
VERSION:2.0
PRODID:-//STRAWANZERIN - ECPv4.9.5//NONSGML v1.0//EN
CALSCALE:GREGORIAN
METHOD:PUBLISH
X-WR-CALNAME:STRAWANZERIN
X-ORIGINAL-URL:https://www.strawanzerin.at
X-WR-CALDESC:Veranstaltungen im STRAWANZERIN
BEGIN:VTIMEZONE
TZID:"Europe/Helsinki"
BEGIN:DAYLIGHT
TZOFFSETFROM:+0200
TZOFFSETTO:+0300
TZNAME:EEST
DTSTART:20150329T010000
END:DAYLIGHT
BEGIN:STANDARD
TZOFFSETFROM:+0300
TZOFFSETTO:+0200
TZNAME:EET
DTSTART:20151025T010000
END:STANDARD
END:VTIMEZONE
BEGIN:VEVENT
DTSTART;TZID="Europe/Helsinki":20151019T190000
DTEND;TZID="Europe/Helsinki":20151019T210000
DTSTAMP:20260421T044850
CREATED:20150924T135719Z
LAST-MODIFIED:20151007T091928Z
UID:19975-1445281200-1445288400@www.strawanzerin.at
SUMMARY:Die muslimische und kurdische Frauenbewegung in der Türkei
DESCRIPTION:Programm \nFeyza Akınerdem\, Soziologin und Kulturwissenschaftlerin\, Istanbul \nSebahat Tuncel\, Frauenrechtlerin und ehemalige Abgeordnete der HDP\, Istanbul \nModeration: Ayşe Dursun\, Politologin\, Universität Wien \nBegrüßung: Michael Fanizadeh\, VIDC \nVeranstaltungssprachen: Türkisch und Deutsch mit Simultandolmetschung \nAnmeldung: fanizadeh@vidc.org \nHintergrund \nFrauen in der Türkei sind heute in einer Vielzahl von sozialen Bewegungen organisiert: Neben der feministischen und kemalistischen Frauenbewegung stellen die muslimischen und kurdischen Frauenbewegungen eine zunehmend wichtige Quelle gesellschaftlicher Transformation dar. Sie sind beide jüngere\, jedoch rasch wachsende Bewegungen. Während die muslimische Frauenbewegung ihren Ursprung in der Mobilisierung von muslimischen Frauen gegen das erstmals im Jahr 1982 eingeführte Kopftuchverbot an den türkischen Hochschulen hat\, entstand die kurdische Frauenbewegung im Kontext der kurdischen Kämpfe in den 1980ern. \nIm politischen Alltagsverständnis werden die muslimischen und kurdischen Frauenbewegungen häufig als der ‚Frauenzweig‘ der breiteren muslimischen bzw. kurdischen Bewegung angesehen. In dieser Veranstaltung werden diese als autonome Frauenbewegungen verstanden und diskutiert. Wie positionieren sie sich politisch\, und welchen frauenpolitischen Anliegen gehen sie nach? Wie ist deren Verhältnis zueinander sowie zu anderen feministischen Gruppen\, und welche Allianzen gehen sie ein? Welche frauenpolitischen Möglichkeiten bzw. Herausforderungen ergeben sich angesichts der jüngsten Wahlergebnisse bzw. der wahrscheinlichen Neuwahlen? Was ist deren Standpunkt im Kontext des Scheiterns der Friedenspolitik und der zunehmenden Polarisierung in der Türkei?  \n
URL:https://www.strawanzerin.at/termin/die-muslimische-und-kurdische-frauenbewegung-in-der-tuerkei/2015-10-19/
LOCATION:Diplomatische Akademie (Wien)\, Favoritenstraße 15a\, Wien\, Wien\, 1040 \, Österreich
CATEGORIES:Deutsch,Feminismus,Gratis,Vortrag/Symposium,Wien
ATTACH;FMTTYPE=:
ORGANIZER;CN="VIDC%20-%20Wiener%20Institut":MAILTO:hochauer-kpoda@vidc.org
GEO:48.1942176;16.3703657
X-APPLE-STRUCTURED-LOCATION;VALUE=URI;X-ADDRESS=Diplomatische Akademie (Wien) Favoritenstraße 15a Wien Wien 1040  Österreich;X-APPLE-RADIUS=500;X-TITLE=Favoritenstraße 15a:geo:16.3703657,48.1942176
END:VEVENT
END:VCALENDAR