BEGIN:VCALENDAR
VERSION:2.0
PRODID:-//STRAWANZERIN - ECPv4.9.5//NONSGML v1.0//EN
CALSCALE:GREGORIAN
METHOD:PUBLISH
X-WR-CALNAME:STRAWANZERIN
X-ORIGINAL-URL:https://www.strawanzerin.at
X-WR-CALDESC:Veranstaltungen im STRAWANZERIN
BEGIN:VTIMEZONE
TZID:"Europe/Vienna"
BEGIN:DAYLIGHT
TZOFFSETFROM:+0100
TZOFFSETTO:+0200
TZNAME:CEST
DTSTART:20180325T010000
END:DAYLIGHT
BEGIN:STANDARD
TZOFFSETFROM:+0200
TZOFFSETTO:+0100
TZNAME:CET
DTSTART:20181028T010000
END:STANDARD
END:VTIMEZONE
BEGIN:VEVENT
DTSTART;TZID="Europe/Vienna":20180428T201500
DTEND;TZID="Europe/Vienna":20180428T220000
DTSTAMP:20260422T090442
CREATED:20180410T083015Z
LAST-MODIFIED:20180410T083015Z
UID:54058-1524946500-1524952800@www.strawanzerin.at
SUMMARY:Die Pfarrhauskomödie - Sündhaft komisches Bühnenspiel in der Komödie am Kai
DESCRIPTION:Sowohl die Lebens- und Liebesfreuden als auch das Ringen um den Glauben machen dieses Stück über die Schwierigkeiten mit dem Zölibat zu einer der besten deutschsprachigen Komödien von Heinrich Lautensack. Von 28. April bis 16. Juni 2018 sorgen jede Menge Irrungen und Wirrungen für einen unterhaltsamen Theaterabend am Wiener Franz-Josefs-Kai. Dabei glänzen Angela Schneider\, Sonja Zobel\, Peter Josch und Anatol Rieger mit pointierten Dialogen\, Witz und Situationskomik. \nInfo:\nTel. 01 533 24 34  \nBild: Sonja Zobel\, Peter Josch und Angela Schneider in »Die Pfarrhauskomödie«\, Foto/© Komödie am Kai \n
URL:https://www.strawanzerin.at/termin/die-pfarrhauskomoedie-suendhaft-komisches-buehnenspiel-in-der-komoedie-am-kai/2018-04-28/
LOCATION:Komödie am Kai\, Franz-Josefs-Kai 29\, Wien\, Wien\, 1010\, Österreich
CATEGORIES:ab 7,Theater/Kabarett,Wien
ATTACH;FMTTYPE=image/jpeg:https://www.strawanzerin.at/wp-content/uploads/2018/04/223presse1.jpg
GEO:48.2121522;16.3749182
X-APPLE-STRUCTURED-LOCATION;VALUE=URI;X-ADDRESS=Komödie am Kai Franz-Josefs-Kai 29 Wien Wien 1010 Österreich;X-APPLE-RADIUS=500;X-TITLE=Franz-Josefs-Kai 29:geo:16.3749182,48.2121522
END:VEVENT
END:VCALENDAR