BEGIN:VCALENDAR
VERSION:2.0
PRODID:-//STRAWANZERIN - ECPv4.9.5//NONSGML v1.0//EN
CALSCALE:GREGORIAN
METHOD:PUBLISH
X-WR-CALNAME:STRAWANZERIN
X-ORIGINAL-URL:https://www.strawanzerin.at
X-WR-CALDESC:Veranstaltungen im STRAWANZERIN
BEGIN:VTIMEZONE
TZID:"Europe/Helsinki"
BEGIN:DAYLIGHT
TZOFFSETFROM:+0200
TZOFFSETTO:+0300
TZNAME:EEST
DTSTART:20140330T010000
END:DAYLIGHT
BEGIN:STANDARD
TZOFFSETFROM:+0300
TZOFFSETTO:+0200
TZNAME:EET
DTSTART:20141026T010000
END:STANDARD
END:VTIMEZONE
BEGIN:VEVENT
DTSTART;TZID="Europe/Helsinki":20141028T180000
DTEND;TZID="Europe/Helsinki":20141028T203000
DTSTAMP:20260421T211707
CREATED:20140927T201859Z
LAST-MODIFIED:20141006T081307Z
UID:7611-1414519200-1414528200@www.strawanzerin.at
SUMMARY:Die richtige Pflege meiner Nähmaschine
DESCRIPTION:Es ist ärgerlich\, wenn die Nähmaschine nicht funktioniert!!! Vielleicht ist sie nur falsch eingefädelt? Vielleicht ist es die falsche Nadel? Oder braucht sie etwas Öl? Aber wo soll ich sie ölen? All die Fragen können in diesem Workshop von fachkundiger Seite beantwortet werden. \nWorkshopleitung: Harald Heller\, Nähmaschinenmechaniker\nAnmeldung: workshops@recyclingcosmos.at oder 0650 974 99 59 \n
URL:https://www.strawanzerin.at/termin/die-richtige-pflege-meiner-naehmaschine/
LOCATION:Recycling Kosmos Zentrale\, Ottakringer Straße 63\, Wien\, Wien\, 1160\, Österreich
CATEGORIES:ab 7,Deutsch,Sonstiges,Wien,Workshop
ATTACH;FMTTYPE=image/jpeg:https://www.strawanzerin.at/wp-content/uploads/2014/09/Nähmaschine.jpg
ORGANIZER;CN="Recycling%20Kosmos":MAILTO:workshops@recyclingkosmos.at
GEO:48.2137812;16.3298013
X-APPLE-STRUCTURED-LOCATION;VALUE=URI;X-ADDRESS=Recycling Kosmos Zentrale Ottakringer Straße 63 Wien Wien 1160 Österreich;X-APPLE-RADIUS=500;X-TITLE=Ottakringer Straße 63:geo:16.3298013,48.2137812
END:VEVENT
END:VCALENDAR