BEGIN:VCALENDAR
VERSION:2.0
PRODID:-//STRAWANZERIN - ECPv4.9.5//NONSGML v1.0//EN
CALSCALE:GREGORIAN
METHOD:PUBLISH
X-WR-CALNAME:STRAWANZERIN
X-ORIGINAL-URL:https://www.strawanzerin.at
X-WR-CALDESC:Veranstaltungen im STRAWANZERIN
BEGIN:VTIMEZONE
TZID:"Europe/Vienna"
BEGIN:DAYLIGHT
TZOFFSETFROM:+0100
TZOFFSETTO:+0200
TZNAME:CEST
DTSTART:20190331T010000
END:DAYLIGHT
BEGIN:STANDARD
TZOFFSETFROM:+0200
TZOFFSETTO:+0100
TZNAME:CET
DTSTART:20191027T010000
END:STANDARD
END:VTIMEZONE
BEGIN:VEVENT
DTSTART;TZID="Europe/Vienna":20190427T190000
DTEND;TZID="Europe/Vienna":20190427T210000
DTSTAMP:20260420T004608
CREATED:20190403T085351Z
LAST-MODIFIED:20190403T085351Z
UID:63445-1556391600-1556398800@www.strawanzerin.at
SUMMARY:"Die Ritterin der Tafelrunde"
DESCRIPTION:Spiel: Verena Vondrak\nBuch und Regie: Hubertus Zorell \nDONNA ist auf der Suche. Und sie sucht etwas wirklich Wichtiges. Etwas\, was\, wenn man es GEFUNDEN hat\, alles verändert. ZUM BESSEREN verändert.\nDonna sucht DAS\, was die RITTER DER TAFELRUNDE vergeblich gesucht haben. Sie sucht den HEILIGEN GRAL. WER SUCHET\, DER FINDET\, sagt die Bibel. Und die Donna GLAUBT das auch. Jedenfalls hat sie den Satz schon GEHÖRT\, und er leuchtet ihr ein. Die Frage ist nur\, WO man am besten suchet\, und ob man da\, wo man suchet\, auch FINDET\, oder möglicherweise ganz woanders? Und DANN ist natürlich auch die Frage\, ob das\, was man findet\, auch wirklich das IST\, was man suchet? Denn Donna WEISS zwar\, was sie suchet! Sie weiß nur nicht\, wie es AUSSCHAUT?! Wie schaut der heilige Gral AUS? Was IST überhaupt der heilige Gral? \nZu suchen und nicht zu WISSEN\, was man sucht\, ist einerseits schlecht und andererseits gut. Das SCHLECHTE daran ist\, dass man sehr schwer zu einem endgültigen ERGEBNIS kommt. Das GUTE ist\, dass man mit an Sicherheit grenzender Wahrscheinlichkeit ÜBERHAUPT etwas findet.\nUnd das ist wahrscheinlich GENAU DAS\, was die Bibel SAGT! \n
URL:https://www.strawanzerin.at/termin/die-ritterin-der-tafelrunde-4/
LOCATION:Theater Olé  – Clown- \, Komik- und Varietétheater\, Barmherzigengasse 18\, Wien\, Wien\, 1030\, Österreich
CATEGORIES:ab 7,Deutsch,Kunst/Kultur,Theater/Kabarett,Wien
ATTACH;FMTTYPE=image/jpeg:https://www.strawanzerin.at/wp-content/uploads/2019/04/Ritterin.jpg
ORGANIZER;CN="Theater%20Ole-Clown-%20Komik%20-%20und%20Variet%C3%A9theater%20mitten%20in%20Wien":MAILTO:theater-ole@gmx.at
GEO:48.1962173;16.3940663
X-APPLE-STRUCTURED-LOCATION;VALUE=URI;X-ADDRESS=Theater Olé  – Clown-  Komik- und Varietétheater Barmherzigengasse 18 Wien Wien 1030 Österreich;X-APPLE-RADIUS=500;X-TITLE=Barmherzigengasse 18:geo:16.3940663,48.1962173
END:VEVENT
END:VCALENDAR