BEGIN:VCALENDAR
VERSION:2.0
PRODID:-//STRAWANZERIN - ECPv4.9.5//NONSGML v1.0//EN
CALSCALE:GREGORIAN
METHOD:PUBLISH
X-WR-CALNAME:STRAWANZERIN
X-ORIGINAL-URL:https://www.strawanzerin.at
X-WR-CALDESC:Veranstaltungen im STRAWANZERIN
BEGIN:VTIMEZONE
TZID:"Europe/Vienna"
BEGIN:DAYLIGHT
TZOFFSETFROM:+0100
TZOFFSETTO:+0200
TZNAME:CEST
DTSTART:20230326T010000
END:DAYLIGHT
BEGIN:STANDARD
TZOFFSETFROM:+0200
TZOFFSETTO:+0100
TZNAME:CET
DTSTART:20231029T010000
END:STANDARD
END:VTIMEZONE
BEGIN:VEVENT
DTSTART;TZID="Europe/Vienna":20230615T203000
DTEND;TZID="Europe/Vienna":20230615T220000
DTSTAMP:20260423T213420
CREATED:20230606T134217Z
LAST-MODIFIED:20230606T134217Z
UID:92014-1686861000-1686866400@www.strawanzerin.at
SUMMARY:Die schlaflose Welt - Tanzstück nach Stefan Zweig
DESCRIPTION:VADA zeigt ein Tanzstück von Boris Randzio für drei Tänzerinnen und zwei Tänzer nach dem gleichnamigen Essay von Stefan Zweig aus dem Jahr 1914. \n„Es ist jetzt weniger Schlaf in der Welt\, länger die Nächte und länger die Tage.“ \nMit diesen Worten beginnt Stefan Zweigs alptraumhafte Beschreibung des Seelenzustandes der Menschen kurz vor Beginn des ersten Weltkrieges\, der der aktuellen gesellschaftlichen Stimmungslage erschreckend gleicht. \nZu Musik von Johann Sebastian Bach\, Radiohead\, Naia Rani und Studnitzki übersetzt Boris Randzio den Text von Stefan Zweig in Bewegtsprache und schlägt damit eine Brücke zu den Ängsten und Sehnsüchten unserer Zeit\, eröffnet jedoch auch einen furchtloseren Blick in die Zukunft. \nChoreografie\, Inszenierung: Boris Randzio\nTanz: Brice Asnar\, Ana Dordevic\, Boris Randzio\, Hannah Stein\, Ya-Chun Tsai\nTechnik: Florian Zambrano Moreno\, Felix Strasser\nEine Produktion von VADA \nVeranstaltungsort: VENTIL Innenhof (bei Schlechtwetter indoor)\nEintritt: #PWYW\nReservierung: vada@vada.cc oder +436802061492 \n
URL:https://www.strawanzerin.at/termin/die-schlaflose-welt-tanzstueck-nach-stefan-zweig/2023-06-15/
LOCATION:VENTIL\, Kardinalplatz 1\, Klagenfurt am Wörthersee\, Kärnten\, 9020\, Österreich
CATEGORIES:Tanz,Theater/Kabarett
ATTACH;FMTTYPE=image/jpeg:https://www.strawanzerin.at/wp-content/uploads/2023/06/Veranstaltungssujet-quer.jpg
ORGANIZER;CN="VADA%20%28Verein%20zur%20Anregung%20des%20dramatischen%20Appetits%29":MAILTO:vada@vada.cc
END:VEVENT
END:VCALENDAR