BEGIN:VCALENDAR
VERSION:2.0
PRODID:-//STRAWANZERIN - ECPv4.9.5//NONSGML v1.0//EN
CALSCALE:GREGORIAN
METHOD:PUBLISH
X-WR-CALNAME:STRAWANZERIN
X-ORIGINAL-URL:https://www.strawanzerin.at
X-WR-CALDESC:Veranstaltungen im STRAWANZERIN
BEGIN:VTIMEZONE
TZID:"Europe/Helsinki"
BEGIN:DAYLIGHT
TZOFFSETFROM:+0200
TZOFFSETTO:+0300
TZNAME:EEST
DTSTART:20160327T010000
END:DAYLIGHT
BEGIN:STANDARD
TZOFFSETFROM:+0300
TZOFFSETTO:+0200
TZNAME:EET
DTSTART:20161030T010000
END:STANDARD
END:VTIMEZONE
BEGIN:VEVENT
DTSTART;TZID="Europe/Helsinki":20161202T193000
DTEND;TZID="Europe/Helsinki":20161202T210000
DTSTAMP:20260421T224343
CREATED:20161114T091545Z
LAST-MODIFIED:20161114T091545Z
UID:36780-1480707000-1480712400@www.strawanzerin.at
SUMMARY:DIE STUNDE ZWISCHEN FRAU UND GITARRE
DESCRIPTION:DIE STUNDE ZWISCHEN FRAU UND GITARRE\nvon Clemens J. Setz\n– Uraufführung der Bühnenfassung von Thirza Bruncken und Esther Holland-Merten \nInszenierung: Thirza Bruncken\nBühne und Kostüm: Christoph Ernst\nDramaturgie: Esther Holland-Merten\nMit: Jeanne Devos\, Miriam Fussenegger\, Marta Kizyma\, Mirco Reseg\, Dominik Warta \nEs sei ein Signum unserer Zeit\, dass es keinerlei Außen mehr gebe\, weil alles Bestehende vom übermächtigen Regime der Gegenwart vereinnahmt und verschluckt werde\, mitsamt all seiner Widersprüche. Clemens J. Setz’ jüngster Roman „Die Stunde zwischen Frau und Gitarre“ mag als entschiedene Gegenrede zu dieser These gelesen werden – und zugleich als ihre willige Bestätigung. Setz’ jüngstes Werk geht den ganz großen Fragen nach: Norm und Abweichung\, Wahrheit und Wahnsinn\, Intimität und Virtualität stehen im Zentrum einer Geschichte um die junge Pflegerin Natalie Reinegger\, deren eigene Verrücktheiten nur manchmal von der Realität übertroffen werden. Sicher scheint nur zu sein\, dass nicht-linearer Nonsens die sinnvollste Form zwischenmenschlicher Kommunikation ist. \nIn ihrer ersten Inszenierung am WERK X begleitet die Regisseurin Thirza Bruncken mit ihrem Team Natalie auf ihrer surrealistisch halluzinativen Reise hinein in verschiedene Welten\, in denen sich auf beunruhigende Weise Wirklichkeit und Fiktion\, Raum und Zeit zu verschieben beginnen. \nWeitere Termine:\nFr 09.12.2016\, 19.30 Uhr\nMi 14.12.2016\, 19.30 Uhr\nMi 11.01.2017\, 19.30 Uhr\nDo 12.01.2017\, 19.30 Uhr	 \n
URL:https://www.strawanzerin.at/termin/die-stunde-zwischen-frau-und-gitarre/
CATEGORIES:ab 7,Deutsch,Theater/Kabarett,Wien
ATTACH;FMTTYPE=image/jpeg:https://www.strawanzerin.at/wp-content/uploads/2016/11/deistunde1_web.jpg
ORGANIZER;CN="WERK%20X":MAILTO:buero@werk-x.at
END:VEVENT
END:VCALENDAR