BEGIN:VCALENDAR
VERSION:2.0
PRODID:-//STRAWANZERIN - ECPv4.9.5//NONSGML v1.0//EN
CALSCALE:GREGORIAN
METHOD:PUBLISH
X-WR-CALNAME:STRAWANZERIN
X-ORIGINAL-URL:https://www.strawanzerin.at
X-WR-CALDESC:Veranstaltungen im STRAWANZERIN
BEGIN:VTIMEZONE
TZID:"Europe/Vienna"
BEGIN:DAYLIGHT
TZOFFSETFROM:+0100
TZOFFSETTO:+0200
TZNAME:CEST
DTSTART:20220327T010000
END:DAYLIGHT
BEGIN:STANDARD
TZOFFSETFROM:+0200
TZOFFSETTO:+0100
TZNAME:CET
DTSTART:20221030T010000
END:STANDARD
END:VTIMEZONE
BEGIN:VEVENT
DTSTART;TZID="Europe/Vienna":20220120T200000
DTEND;TZID="Europe/Vienna":20220129T213000
DTSTAMP:20260423T122512
CREATED:20211115T162840Z
LAST-MODIFIED:20211116T131740Z
UID:81787-1642708800-1643491800@www.strawanzerin.at
SUMMARY:Die Überflüssigen
DESCRIPTION:Der Topos des überflüssigen Menschen. Sina Heiss befragt den klassischen Iwanow-Stoff von Tschechow auf seine gegenwärtige Relevanz. Iwanow\, überfordert\, verwirrt und selbstmitleidig\, wird mit der Krisenstimmung unserer neuen Normalität konfrontiert.  \nDer heutige Mensch wird mehr und mehr auf seine Konsument*innenrolle reduziert und als Arbeitskraft durch die Automatisierung für überflüssig erklärt. Wieso lassen wir das zu? Haben wir überhaupt die Möglichkeit\, uns zu wehren? Oder sind wir dazu bereits zu erschöpft? Sina Heiss sucht Antworten und variiert das tschechowsche Thema des Aus-der-Zeit-Gefallenseins in unserer neuen Welt.  \n
URL:https://www.strawanzerin.at/termin/die-ueberfluessigen-2/
LOCATION:TAG – Theater an der Gumpendorfer Straße\, Gumpendorfer Straße 67\, Wien\, Wien\, 1060\, Österreich
ATTACH;FMTTYPE=image/jpeg:https://www.strawanzerin.at/wp-content/uploads/2021/11/TAG_Die_Ueberfluessigen_c_Anna_Stoecher-hoch_presse-scaled.jpg
ORGANIZER;CN="TAG%20-%20Theater%20an%20der%20Gumpendorfer%20Stra%C3%9Fe":MAILTO:karten@dastag.at
GEO:48.1954875;16.3512933
X-APPLE-STRUCTURED-LOCATION;VALUE=URI;X-ADDRESS=TAG – Theater an der Gumpendorfer Straße Gumpendorfer Straße 67 Wien Wien 1060 Österreich;X-APPLE-RADIUS=500;X-TITLE=Gumpendorfer Straße 67:geo:16.3512933,48.1954875
END:VEVENT
END:VCALENDAR