BEGIN:VCALENDAR
VERSION:2.0
PRODID:-//STRAWANZERIN - ECPv4.9.5//NONSGML v1.0//EN
CALSCALE:GREGORIAN
METHOD:PUBLISH
X-WR-CALNAME:STRAWANZERIN
X-ORIGINAL-URL:https://www.strawanzerin.at
X-WR-CALDESC:Veranstaltungen im STRAWANZERIN
BEGIN:VTIMEZONE
TZID:"Europe/Helsinki"
BEGIN:DAYLIGHT
TZOFFSETFROM:+0200
TZOFFSETTO:+0300
TZNAME:EEST
DTSTART:20160327T010000
END:DAYLIGHT
BEGIN:STANDARD
TZOFFSETFROM:+0300
TZOFFSETTO:+0200
TZNAME:EET
DTSTART:20161030T010000
END:STANDARD
END:VTIMEZONE
BEGIN:VEVENT
DTSTART;TZID="Europe/Helsinki":20160228T120000
DTEND;TZID="Europe/Helsinki":20160228T190000
DTSTAMP:20260421T104802
CREATED:20160122T124119Z
LAST-MODIFIED:20160122T124119Z
UID:23799-1456660800-1456686000@www.strawanzerin.at
SUMMARY:"Die ungeheure Welt\, die ich im Kopf habe."
DESCRIPTION:Vernissagenbrunch: Sonntag\, 28.2.2016 um 12Uhr\nAusstellung: bis Freitag\, 4.3.2016\, täglich von 14-19Uhr\npräsentieren Britta Schweiger und Michael Kubik in Ihrer Werkschau in der „Galerie Sandpeck Wien 8“ – Verein zur Förderung von Kunst\, Kultur u Wirtschaft in der Florianigasse Ecke Uhlplatz.\nAber wie mich befreien und sie befreien\, ohne zu zerreißen. Und tausendmal lieber zerreißen\, als in mir sie zurückhalten oder begraben.\nDazu bin ich ja hier\, das ist mir ganz klar.\nF. Kafka\, Tagebücher\nDas Bild ist\, so wie der Mensch selbst und sein Leben\, ein unvollendetes und offenes Werk. Es verbleibt immer ein Rest\, sublim\, erhaben\, nicht darstellbar.\nDie Bilder von Britta Schweiger bringen diese ungeheure Welt kleinteilig\, mosaikhaft in eine Ebene. Eine Ebene\, die Tiefen und Höhen\, Licht und Schatten – des Lebens – durch die komponierten Farbflächen der Betrachtung öffnen.\nBritta Schweiger geboren 1967 in Hannover. Ausbildung zur Augenoptikerin. Lebt und arbeitet seit 1998 in Wien.\n5-jähriger Zertifikatslehrgang Malerei und Schaufensterdekoration an der Künstlerischen Volkshochschule Wien Die Künstlerin bevorzugt Eitemperamalerei und präsentierte ihre Arbeiten im In- und Ausland. Wie z.B. Lichtraum Eins\, 1010 Wien; Alte Schieberkammer\, 1150 Wien; Rahmen-Bilder-Spiegel\, 1080 Wien; Stahlbauhalle\, Hamm/Deutschland; Cafe Kandinsky\, 1070 Wien.\nSie war in Gruppenausstellungen der Berufsvereinigung der Bildenden KünstlerInnen vertreten: Schloss Gloggnitz\, NÖ;\nSpazio Klien\, Borgo/Valsugana\, Italien; Schloss Albeck\, Kärnten.\nKontakt: britta.schweiger@gmx.at\nMichael Kubik liefert seine Bildwelten\, seine ungeheure Welt in Form von\, vielfach grafisch aufgelösten\, Flächen der Betrachtung aus. Die sich entziehenden\, linienhaft aufgeteilten Landschaften\, das Innere des Lebens\, eine Möglichkeit\, die das Denkbare übersteigt.\nMichael Kubik geboren am 28. 2. 1957 in Wien.\nAutodidaktes Zeichnen und Malen. Zertifikatslehrgang „Malerei“ zum Schärfen der Techniken Aquarell und zusätzlich Eitempera.\nTeilnahme an der Sommerakademie „Hortus Niger“ bei Giselbert Hoke.\nLehrbeauftragter an der Kunst-VHS-Lazarettgasse.\nKursleiter Eitemperamalerei im Rahmen der Kunstwochen auf Burg Feistritz/NÖ.\nSkulpturen aus Stahl und Holz.\nGezeigt wurden seine Arbeiten in zahlreichen Ausstellungen wie in Österreich\, Deutschland\, Frankreich\, Italien\, Ungarn\, …\nmehr: http://www.michael-kubik.com/ \n
URL:https://www.strawanzerin.at/termin/die-ungeheure-welt-die-ich-im-kopf-habe/2016-02-28/
LOCATION:Österreich
CATEGORIES:Ausstellung,Deutsch,Gratis,Kunst/Kultur,Wien
ATTACH;FMTTYPE=:
ORGANIZER;CN="Christiane%20Sandpeck":MAILTO:christiane@sandpeck.com
END:VEVENT
END:VCALENDAR