BEGIN:VCALENDAR
VERSION:2.0
PRODID:-//STRAWANZERIN - ECPv4.9.5//NONSGML v1.0//EN
CALSCALE:GREGORIAN
METHOD:PUBLISH
X-WR-CALNAME:STRAWANZERIN
X-ORIGINAL-URL:https://www.strawanzerin.at
X-WR-CALDESC:Veranstaltungen im STRAWANZERIN
BEGIN:VTIMEZONE
TZID:"Europe/Vienna"
BEGIN:DAYLIGHT
TZOFFSETFROM:+0100
TZOFFSETTO:+0200
TZNAME:CEST
DTSTART:20170326T010000
END:DAYLIGHT
BEGIN:STANDARD
TZOFFSETFROM:+0200
TZOFFSETTO:+0100
TZNAME:CET
DTSTART:20171029T010000
END:STANDARD
END:VTIMEZONE
BEGIN:VEVENT
DTSTART;TZID="Europe/Vienna":20170406T200000
DTEND;TZID="Europe/Vienna":20170406T213000
DTSTAMP:20260419T152250
CREATED:20170320T202450Z
LAST-MODIFIED:20170428T095821Z
UID:41977-1491508800-1491514200@www.strawanzerin.at
SUMMARY:Die Welt des Theaters
DESCRIPTION:Mit dem Stück „Gretchen 89FF“ nimmt das Theater Transversale das Theater selbst unter die Lupe und lässt dabei tief blicken. Ein Regisseur\, eine Schauspielerin und eine Szene aus Goethes „Faust I“ genügen dafür. Im schnellen Wechsel proben unterschiedlichste Charaktere miteinander die „Kästchenszene“ auf der Bühne. Das lässt viel Spielraum für sämtliche Neurosen\, Macken und Befindlichkeiten auf Seiten des Regisseurs und auf Seiten der Schauspielerin. Premiere ist am 6. April 2017\, um 20.00 Uhr im kleinen theater.  \nKarten: 0662 / 872154 \n
URL:https://www.strawanzerin.at/termin/die-welt-des-theaters/2017-04-06/
LOCATION:Kleines Theater\, Schallmooser Hauptstraße 50\, Salzburg\, 5020\, Österreich
CATEGORIES:ab 7,Salzburg,Theater/Kabarett
ATTACH;FMTTYPE=image/jpeg:https://www.strawanzerin.at/wp-content/uploads/2017/03/theatertransversale_gretchen_1.jpg
GEO:47.8072039;13.0608323
X-APPLE-STRUCTURED-LOCATION;VALUE=URI;X-ADDRESS=Kleines Theater Schallmooser Hauptstraße 50 Salzburg 5020 Österreich;X-APPLE-RADIUS=500;X-TITLE=Schallmooser Hauptstraße 50:geo:13.0608323,47.8072039
END:VEVENT
END:VCALENDAR