BEGIN:VCALENDAR
VERSION:2.0
PRODID:-//STRAWANZERIN - ECPv4.9.5//NONSGML v1.0//EN
CALSCALE:GREGORIAN
METHOD:PUBLISH
X-WR-CALNAME:STRAWANZERIN
X-ORIGINAL-URL:https://www.strawanzerin.at
X-WR-CALDESC:Veranstaltungen im STRAWANZERIN
BEGIN:VTIMEZONE
TZID:"Europe/Vienna"
BEGIN:DAYLIGHT
TZOFFSETFROM:+0100
TZOFFSETTO:+0200
TZNAME:CEST
DTSTART:20240331T010000
END:DAYLIGHT
BEGIN:STANDARD
TZOFFSETFROM:+0200
TZOFFSETTO:+0100
TZNAME:CET
DTSTART:20241027T010000
END:STANDARD
END:VTIMEZONE
BEGIN:VEVENT
DTSTART;TZID="Europe/Vienna":20240404T190000
DTEND;TZID="Europe/Vienna":20240404T213000
DTSTAMP:20260420T233755
CREATED:20240315T095850Z
LAST-MODIFIED:20240315T095850Z
UID:97528-1712257200-1712266200@www.strawanzerin.at
SUMMARY:Die Wohnungsfrage im Kapitalismus
DESCRIPTION:In den Großstädten herrscht akute Wohnungsnot. \nJa\, auch in Wien\, wo die Wohnungsfrage ach so vorbildlich von der städtischen Politik geregelt wird\, die jeden 4. Einwohner damit beglückt\, in einer stadteigenen Gemeindewohnung wohnen und Miete zahlen zu dürfen\, wo die Mieten im üppigen Altbaubestand gesetzlich beschränkt sind und das genossenschaftliche Wohnen gefördert und rege gebaut wird. Auch dort also\, wo all die staatlichen Maßnahmen längst Realität sind\,von denen man sich andernorts die Lösung der Wohnungsnot erhofft\, wird das Problem\, das Wohnungsnot heißt und das in einer notorischen Unterversorgung zahlungsbereiter Leute mit Wohnraum und ihrer Überversorgung mit dafür umso anspruchsvolleren Mietpreisen besteht\, durch eben solche Maßnahmen nun mal nicht aus der Welt geschafft\, sondern als bleibendes Problem gesetzlich betreut. \nWas auch sonst. \nWo Grund und Boden durch die Macht des Staates zu privatem Eigentum gemacht sind und als stattliche Einkommensquelle lizenziert werden\, sind die Ansprüche des Grundeigentums so unhintergehbar wie unvereinbar mit den Wohnansprüchen eines von Erwerbsarbeit lebenden Volkes und den Erträgen aus dieser seiner Einkommensquelle. Die ‚Wohnungsfrage‘ ist deswegen so alt wie der Kapitalismus selbst und ist als solche überhaupt nicht ‚zu lösen‘. Allen Gentrifizierungskritikern\, die das – mindestens für ihr Grätzel – unmöglich glauben können\, und allen\, die ansonsten an einer Kritik der politischen Ökonomie des Grundeigentums interessiert sind\, können wir das beweisen … \n
URL:https://www.strawanzerin.at/termin/die-wohnungsfrage-im-kapitalismus/
LOCATION:Stiftgasse 8\, 1070 Wien\, Amerlinghaus\, Stiftgasse 8\, Wien\, Wien\, 1070\, Österreich
CATEGORIES:Deutsch,Soziale Kämpfe,Vortrag/Symposium,Wien
ATTACH;FMTTYPE=image/png:https://www.strawanzerin.at/wp-content/uploads/2024/03/Plakat_Wohnungsfrage.png
ORGANIZER;CN="AK%20Gegenpositionen":MAILTO:info@gegenpositionen.at
END:VEVENT
END:VCALENDAR