BEGIN:VCALENDAR
VERSION:2.0
PRODID:-//STRAWANZERIN - ECPv4.9.5//NONSGML v1.0//EN
CALSCALE:GREGORIAN
METHOD:PUBLISH
X-WR-CALNAME:STRAWANZERIN
X-ORIGINAL-URL:https://www.strawanzerin.at
X-WR-CALDESC:Veranstaltungen im STRAWANZERIN
BEGIN:VTIMEZONE
TZID:"Europe/Vienna"
BEGIN:DAYLIGHT
TZOFFSETFROM:+0100
TZOFFSETTO:+0200
TZNAME:CEST
DTSTART:20240331T010000
END:DAYLIGHT
BEGIN:STANDARD
TZOFFSETFROM:+0200
TZOFFSETTO:+0100
TZNAME:CET
DTSTART:20241027T010000
END:STANDARD
END:VTIMEZONE
BEGIN:VEVENT
DTSTART;TZID="Europe/Vienna":20241121T200000
DTEND;TZID="Europe/Vienna":20241121T213000
DTSTAMP:20260420T101120
CREATED:20241122T122722Z
LAST-MODIFIED:20241122T122722Z
UID:104749-1732219200-1732224600@www.strawanzerin.at
SUMMARY:DIRTY OLD WOMEN with Jenny Simanowitz and Kathy Tanner
DESCRIPTION:Dirty Old Women is an autobiographically based one-act play with elements of Cabaret and Sitcom. Two women in their early seventies decide to try their luck on a sex-positive dating site. Their aim is not to find life partners\, but rather to enjoy some entertainment with perhaps a smattering of erotic in their “golden years”. \nJenny Simanowitz (Wild Granny Jenny) and Kathy Tanner (English Lovers) are friends and accomplices. The piece grew out of their real-life experiences. “When you’re old\, you’ve got nothing more to lose” says Jenny. Kathy agrees. The openness with which they approach their encounters leads to stories which are hilarious\, crazy … and sometimes deeply moving. \nScript\, Actors: Jenny Simanowitz\, Kathy Tanner\nDirector: Dennis Kozeluh\nRunning time: 90 mins\, including one intermission \n
URL:https://www.strawanzerin.at/termin/dirty-old-women-with-jenny-simanowitz-and-kathy-tanner/
LOCATION:Theater Drachengasse Bar&Co\, Fleischmarkt 22/Eingang Drachengasse 2\, 1010 Wien\, Wien\, 1010\, Österreich
CATEGORIES:Englisch,Feminismus,Kunst/Kultur,Theater/Kabarett,Wien
ATTACH;FMTTYPE=image/jpeg:https://www.strawanzerin.at/wp-content/uploads/2024/11/Dirty-Old-Women-best-Foto-Peter-Zirn_568.jpg
END:VEVENT
END:VCALENDAR