BEGIN:VCALENDAR
VERSION:2.0
PRODID:-//STRAWANZERIN - ECPv4.9.5//NONSGML v1.0//EN
CALSCALE:GREGORIAN
METHOD:PUBLISH
X-WR-CALNAME:STRAWANZERIN
X-ORIGINAL-URL:https://www.strawanzerin.at
X-WR-CALDESC:Veranstaltungen im STRAWANZERIN
BEGIN:VTIMEZONE
TZID:"Europe/Vienna"
BEGIN:DAYLIGHT
TZOFFSETFROM:+0100
TZOFFSETTO:+0200
TZNAME:CEST
DTSTART:20200329T010000
END:DAYLIGHT
BEGIN:STANDARD
TZOFFSETFROM:+0200
TZOFFSETTO:+0100
TZNAME:CET
DTSTART:20201025T010000
END:STANDARD
END:VTIMEZONE
BEGIN:VEVENT
DTSTART;TZID="Europe/Vienna":20200917T183000
DTEND;TZID="Europe/Vienna":20200917T213000
DTSTAMP:20260420T114224
CREATED:20200812T113553Z
LAST-MODIFIED:20200812T113553Z
UID:74970-1600367400-1600378200@www.strawanzerin.at
SUMMARY:Do hob i scho gnua
DESCRIPTION:Die vier GAV Autoren – Judith Gruber-Rizy\, Waltraud Zechmeister\, Rudolf Habringer und Anton Mantler – lesen aus eigenen Texten zu dem Thema DO HOB O SCHO GNUA. Jede/r beschreibt aus seiner eigenen künstlerischen Perspektive\, wovon der Mensch des 21. Jahrhunderts überfordert\, worüber er angefressen ist. Lassen Sie sich von der Vielfalt der unterschiedlichen Herangehensweisen an das Thema überraschen! \n
URL:https://www.strawanzerin.at/termin/do-hob-i-scho-gnua/
LOCATION:Kulturcafé AVALON\, Pfeilgasse 27\, Wien\, Wien\, 1080\, Österreich
CATEGORIES:freie Spende,Gratis,Kunst/Kultur,Literatur
ATTACH;FMTTYPE=image/jpeg:https://www.strawanzerin.at/wp-content/uploads/2020/08/Plakat-neu-mit-a-logos-und-Rand-.jpg
END:VEVENT
END:VCALENDAR