BEGIN:VCALENDAR
VERSION:2.0
PRODID:-//STRAWANZERIN - ECPv4.9.5//NONSGML v1.0//EN
CALSCALE:GREGORIAN
METHOD:PUBLISH
X-WR-CALNAME:STRAWANZERIN
X-ORIGINAL-URL:https://www.strawanzerin.at
X-WR-CALDESC:Veranstaltungen im STRAWANZERIN
BEGIN:VTIMEZONE
TZID:"Europe/Vienna"
BEGIN:DAYLIGHT
TZOFFSETFROM:+0100
TZOFFSETTO:+0200
TZNAME:CEST
DTSTART:20240331T010000
END:DAYLIGHT
BEGIN:STANDARD
TZOFFSETFROM:+0200
TZOFFSETTO:+0100
TZNAME:CET
DTSTART:20241027T010000
END:STANDARD
END:VTIMEZONE
BEGIN:VEVENT
DTSTART;TZID="Europe/Vienna":20240606T180000
DTEND;TZID="Europe/Vienna":20240606T190000
DTSTAMP:20260422T103403
CREATED:20240524T111840Z
LAST-MODIFIED:20240524T111840Z
UID:99459-1717696800-1717700400@www.strawanzerin.at
SUMMARY:Donnerstag Vorabend | Konzert: Flickentanz
DESCRIPTION:Flickentanz\, Sängerin und Liedermacherin – singt von „Herz zu Herz“ auf ihrer gleichnamigen Tour und berührt mit intensiven und starken Botschaften auf pure und innige Weise. Sie schreibt und singt selbst und produziert mit Hartmut Pfannmüller. In einem Mix aus Songs ihrer ersten beiden Alben teilt sie Introspektiven und Emotionen\, in denen sich die Menschen wiederfinden und verstanden fühlen – als würde man mit einer guten Freundin intime Geheimnisse teilen. (Viktoria Florentina) \nDaniela Flickentanz – Vocals\, Piano\, Gitarre \nOrt: Kulturcafé Max\, Mariengasse 1\, 1170 Wien\nZeit: Do.\, 06.06.2024\, 18:00 Uhr – 19:00 Uhr\nEintritt/Tickets: Freie Spende \n
URL:https://www.strawanzerin.at/termin/donnerstag-vorabend-konzert-flickentanz/
LOCATION:Kulturcafé Max\, Mariengasse 1\, Wien\, Hernals\, 1170\, Österreich
CATEGORIES:freie Spende,Gratis,Musik,Wien
ATTACH;FMTTYPE=image/jpeg:https://www.strawanzerin.at/wp-content/uploads/2024/05/Flickentanz-by-SabineStieger-scaled.jpg
ORGANIZER;CN="Shizzle%20-%20Kunst%20%26amp%3B%20Kulturverein":MAILTO:info@shizzle-kultur.at
END:VEVENT
END:VCALENDAR