BEGIN:VCALENDAR
VERSION:2.0
PRODID:-//STRAWANZERIN - ECPv4.9.5//NONSGML v1.0//EN
CALSCALE:GREGORIAN
METHOD:PUBLISH
X-WR-CALNAME:STRAWANZERIN
X-ORIGINAL-URL:https://www.strawanzerin.at
X-WR-CALDESC:Veranstaltungen im STRAWANZERIN
BEGIN:VTIMEZONE
TZID:"Europe/Vienna"
BEGIN:DAYLIGHT
TZOFFSETFROM:+0100
TZOFFSETTO:+0200
TZNAME:CEST
DTSTART:20190331T010000
END:DAYLIGHT
BEGIN:STANDARD
TZOFFSETFROM:+0200
TZOFFSETTO:+0100
TZNAME:CET
DTSTART:20191027T010000
END:STANDARD
END:VTIMEZONE
BEGIN:VEVENT
DTSTART;TZID="Europe/Vienna":20190717T080000
DTEND;TZID="Europe/Vienna":20190717T170000
DTSTAMP:20260422T090142
CREATED:20190717T095013Z
LAST-MODIFIED:20190723T100329Z
UID:66170-1563350400-1563382800@www.strawanzerin.at
SUMMARY:Doppelkonzert: Syannah + Martina Kremsmayr
DESCRIPTION:Zwei Singer-Songwriterinnen teilen sich an dem Abend die Bühne im angenehm kühlen Felsenkeller: \nSYANNAH – voc\, g\nSinger/Songwriterin\nMehr: www.syannah.com\, www.facebook.com/SyannahOfficial/\, Neues Musikvideo: https://youtu.be/_NlPJ9Rt2EU \nMARTINA KREMSMAYR – voc\, p\, key\nSinger/Songwriterin – deutschsprachige Balladen / Popmusik\nMehr: www.martina-kremsmayr.at\, www.facebook.com/martinasmusik\, www.youtube.com/channel/UCy4VJ1sGcaoCHkwH6IODmLA \n
URL:https://www.strawanzerin.at/termin/doppelkonzert-syannah-martina-kremsmayr/
ATTACH;FMTTYPE=image/jpeg:https://www.strawanzerin.at/wp-content/uploads/2019/07/syannah.jpg
END:VEVENT
END:VCALENDAR