BEGIN:VCALENDAR
VERSION:2.0
PRODID:-//STRAWANZERIN - ECPv4.9.5//NONSGML v1.0//EN
CALSCALE:GREGORIAN
METHOD:PUBLISH
X-WR-CALNAME:STRAWANZERIN
X-ORIGINAL-URL:https://www.strawanzerin.at
X-WR-CALDESC:Veranstaltungen im STRAWANZERIN
BEGIN:VTIMEZONE
TZID:"Europe/Vienna"
BEGIN:DAYLIGHT
TZOFFSETFROM:+0100
TZOFFSETTO:+0200
TZNAME:CEST
DTSTART:20220327T010000
END:DAYLIGHT
BEGIN:STANDARD
TZOFFSETFROM:+0200
TZOFFSETTO:+0100
TZNAME:CET
DTSTART:20221030T010000
END:STANDARD
END:VTIMEZONE
BEGIN:VEVENT
DTSTART;TZID="Europe/Vienna":20220505T200000
DTEND;TZID="Europe/Vienna":20220505T213000
DTSTAMP:20260422T184033
CREATED:20220428T075809Z
LAST-MODIFIED:20220428T075809Z
UID:84431-1651780800-1651786200@www.strawanzerin.at
SUMMARY:DRAKULA - lutkovna operna predstava / Puppenoperntheater
DESCRIPTION:Teater Štrik/Theater Strick zu Gast im Jugendstiltheater Klagenfurt/Celovec\nDas Stück basiert auf Bram Stokers DRACULA.\nMOŽ! wird immer kränker. Es muss das Werk eines Vampirs sein. Er fühlt sich schwach und sein Gesicht ist ganz blass. Er hat Angst vor der Nacht und der Dunkelheit. Er muss stark bleiben.\nPredstava temelji na noveli DRAKULA Bram Stoker.\nMOŽ! je vedno bolj in bolj bolan. Prepričan\, da so na delu vampirji. Postaja bled in iz minute v minuto bolj šibak. Boji se teme in noči\, ampak mora ostati pogumen\, mora obstati.\n—\nAutor:innen / avtorja: Yea (Tea Kovše & Yves Brägger)\nPuppenanimation / lutkovna animacija: Tea Kovše\nGesang\, Sopran / operno petje\, soprano: Mateja Potočnik\nSchauspiel\, Technik\, Licht / igra\, tehnika\, luč: Yves Brägger\nBett\, Rollstuhl / postelja\, invalidski voziček: Kamran Gharabaghi\nSpezieller Dank / hvala: Kristina Kovše & Dejan Stropnik\n—\nBeschränktes Platzangebot – Reservierung erforderlich!\nTel.: +43 699 12088770\, Mail: tea.kovse@gmail.com \n
URL:https://www.strawanzerin.at/termin/drakula-lutkovna-operna-predstava-puppenoperntheater/2022-05-05/
LOCATION:Jugendstiltheater Klagenfurt/Celovec\, Goethepark 2\, Klagenfurt am Wörthersee\, Kärnten\, 9020\, Österreich
CATEGORIES:freie Spende,Theater/Kabarett
ATTACH;FMTTYPE=image/jpeg:https://www.strawanzerin.at/wp-content/uploads/2022/04/drakula_plakat_small-scaled.jpg
ORGANIZER;CN="VADA%20%28Verein%20zur%20Anregung%20des%20dramatischen%20Appetits%29":MAILTO:vada@vada.cc
END:VEVENT
END:VCALENDAR