BEGIN:VCALENDAR
VERSION:2.0
PRODID:-//STRAWANZERIN - ECPv4.9.5//NONSGML v1.0//EN
CALSCALE:GREGORIAN
METHOD:PUBLISH
X-WR-CALNAME:STRAWANZERIN
X-ORIGINAL-URL:https://www.strawanzerin.at
X-WR-CALDESC:Veranstaltungen im STRAWANZERIN
BEGIN:VTIMEZONE
TZID:"Europe/Paris"
BEGIN:DAYLIGHT
TZOFFSETFROM:+0100
TZOFFSETTO:+0200
TZNAME:CEST
DTSTART:20150329T010000
END:DAYLIGHT
BEGIN:STANDARD
TZOFFSETFROM:+0200
TZOFFSETTO:+0100
TZNAME:CET
DTSTART:20151025T010000
END:STANDARD
END:VTIMEZONE
BEGIN:VEVENT
DTSTART;TZID="Europe/Paris":20150603T151500
DTEND;TZID="Europe/Paris":20150603T171500
DTSTAMP:20260422T030404
CREATED:20150417T095200Z
LAST-MODIFIED:20150417T095200Z
UID:13986-1433344500-1433351700@www.strawanzerin.at
SUMMARY:Dramatische Führung durch den «Tatort» Augustin
DESCRIPTION:Wussten Sie\, dass die Augustin-Fußballer die schönsten Wadeln haben und daher einen Erotikpokal erringen konnten? Wie sehr der Augustin\, der vor 20 Jahren vom Punkt 0 aus startete\, eine «Institution» geworden und dabei eine Bewegung geblieben ist\, wird durch eine Führung durch das Augustin-Haus veranschaulicht\, zu der wir unsere Leserinnen und Leser einladen. Achtung! Hoher Selbstironiegehalt! \nDie Juni-Führung endet in einer Probe des «11 %. K.Theaters». Guides sind die Augustin-Verkäufer_innen Rudi und Miriam. \n
URL:https://www.strawanzerin.at/termin/dramatische-fuehrung-durch-den-tatort-augustin/
LOCATION:Österreich
CATEGORIES:Deutsch,freie Spende,Rundgang,Wien
END:VEVENT
END:VCALENDAR