BEGIN:VCALENDAR
VERSION:2.0
PRODID:-//STRAWANZERIN - ECPv4.9.5//NONSGML v1.0//EN
CALSCALE:GREGORIAN
METHOD:PUBLISH
X-WR-CALNAME:STRAWANZERIN
X-ORIGINAL-URL:https://www.strawanzerin.at
X-WR-CALDESC:Veranstaltungen im STRAWANZERIN
BEGIN:VTIMEZONE
TZID:"Europe/Helsinki"
BEGIN:DAYLIGHT
TZOFFSETFROM:+0200
TZOFFSETTO:+0300
TZNAME:EEST
DTSTART:20150329T010000
END:DAYLIGHT
BEGIN:STANDARD
TZOFFSETFROM:+0300
TZOFFSETTO:+0200
TZNAME:EET
DTSTART:20151025T010000
END:STANDARD
END:VTIMEZONE
BEGIN:VEVENT
DTSTART;TZID="Europe/Helsinki":20150413T200000
DTEND;TZID="Europe/Helsinki":20150413T213000
DTSTAMP:20260420T134455
CREATED:20150319T104515Z
LAST-MODIFIED:20150319T104515Z
UID:12222-1428955200-1428960600@www.strawanzerin.at
SUMMARY:DREI SEKUNDEN
DESCRIPTION:Eine schaurig schöne Reise durch die Angst ins Glück \nEine Produktion des aktionstheater ensemble in Kooperation mit WERK X\nUraufführung \nInszenierung/Buch: Martin Gruber\nText: Wolfgang Mörth und aktionstheater ensemble\nMusik: Kmet\nBühne/Installation: Felix Dietlinger\nDramaturgie: Martin Ojster \nEin rasanter Trip durch die Angst ins Glück. Pur\, euphorisch\, musikalisch und theatral. Mit Karacho durch unsere Traumata und dann lassen wir los! Alles echt? Alles Traum? Alles Theater? Schwindelgefühle und aus! \nMit: Roman Blumenschein\, Susanne Brandt\, Kirstin Schwab und Florian Komet \n
URL:https://www.strawanzerin.at/termin/drei-sekunden/2015-04-13/
LOCATION:WERK X-Eldorado\, Petersplatz 1\, Wien\, Wien\, 1010\, Österreich
CATEGORIES:Deutsch,Eintrittspreis,Theater/Kabarett,Wien
ATTACH;FMTTYPE=image/jpeg:https://www.strawanzerin.at/wp-content/uploads/2015/03/dreisek_2_dietlinger_bg.jpg
ORGANIZER;CN="WERK%20X":MAILTO:buero@werk-x.at
GEO:48.2091048;16.3701238
X-APPLE-STRUCTURED-LOCATION;VALUE=URI;X-ADDRESS=WERK X-Eldorado Petersplatz 1 Wien Wien 1010 Österreich;X-APPLE-RADIUS=500;X-TITLE=Petersplatz 1:geo:16.3701238,48.2091048
END:VEVENT
END:VCALENDAR