BEGIN:VCALENDAR
VERSION:2.0
PRODID:-//STRAWANZERIN - ECPv4.9.5//NONSGML v1.0//EN
CALSCALE:GREGORIAN
METHOD:PUBLISH
X-WR-CALNAME:STRAWANZERIN
X-ORIGINAL-URL:https://www.strawanzerin.at
X-WR-CALDESC:Veranstaltungen im STRAWANZERIN
BEGIN:VTIMEZONE
TZID:"Europe/Vienna"
BEGIN:DAYLIGHT
TZOFFSETFROM:+0100
TZOFFSETTO:+0200
TZNAME:CEST
DTSTART:20180325T010000
END:DAYLIGHT
BEGIN:STANDARD
TZOFFSETFROM:+0200
TZOFFSETTO:+0100
TZNAME:CET
DTSTART:20181028T010000
END:STANDARD
END:VTIMEZONE
BEGIN:VEVENT
DTSTART;TZID="Europe/Vienna":20180518T190000
DTEND;TZID="Europe/Vienna":20180518T220000
DTSTAMP:20260421T055356
CREATED:20180506T112803Z
LAST-MODIFIED:20180508T110549Z
UID:55582-1526670000-1526680800@www.strawanzerin.at
SUMMARY:DROP DEAD (LAUGHING) / ZA CRKNT
DESCRIPTION:Association of contemporary clown arts / Društvo za sodobno klovnsko umetnost Slovenia / Gesellschaft für Gegenwartskunst – Clownerie\, Slowenien \nDie Gruppe Drop Dead (Laughing) / Za crknt besteht aus einem Team von professionellen slowenischen Clowns. \nNach vielen Jahren in verschiedesten Bereichen der Kunst bündelten sie ihr artistisches Potenzial in ein Clown Cabaret\, das zu einem großen Theatererfolg in Ljubiljana wurde. \nGroteske und burleske Nummern wechseln sich ab mit Buffon und klassischen Clownnummern.  \nSie treten meist ohne rote Nase auf\, um auszudrücken\, dass sie sich (nur) als „ein-wenig-anders“ in dieser modernen Gesellschaft positionieren. \nDrop dead (Laughing)/Za crknt: \n„Come and discover with us the small team from the Sunny side of Alps\, teasing you with their Balkan roots!“  \n Clowns/Exzentriker: \nEva Škofi Maurer\, Tomaž Lapajne Dekleva\, Simeon Huzun\, David Dolami and Tina Janeži. \nSprache: Universal\, Englisch  \n
URL:https://www.strawanzerin.at/termin/drop-dead-laughing-za-crknt/
CATEGORIES:ab 7,Englisch,Kunst/Kultur,Theater/Kabarett,Wien
ATTACH;FMTTYPE=image/jpeg:https://www.strawanzerin.at/wp-content/uploads/2018/05/waterbalet.jpg
ORGANIZER;CN="Theater%20Ole-Clown-%20Komik%20-%20und%20Variet%C3%A9theater%20mitten%20in%20Wien":MAILTO:theater-ole@gmx.at
END:VEVENT
END:VCALENDAR