BEGIN:VCALENDAR
VERSION:2.0
PRODID:-//STRAWANZERIN - ECPv4.9.5//NONSGML v1.0//EN
CALSCALE:GREGORIAN
METHOD:PUBLISH
X-WR-CALNAME:STRAWANZERIN
X-ORIGINAL-URL:https://www.strawanzerin.at
X-WR-CALDESC:Veranstaltungen im STRAWANZERIN
BEGIN:VTIMEZONE
TZID:"Europe/Helsinki"
BEGIN:DAYLIGHT
TZOFFSETFROM:+0200
TZOFFSETTO:+0300
TZNAME:EEST
DTSTART:20150329T010000
END:DAYLIGHT
BEGIN:STANDARD
TZOFFSETFROM:+0300
TZOFFSETTO:+0200
TZNAME:EET
DTSTART:20151025T010000
END:STANDARD
END:VTIMEZONE
BEGIN:VEVENT
DTSTART;TZID="Europe/Helsinki":20150305T193000
DTEND;TZID="Europe/Helsinki":20150305T213000
DTSTAMP:20260420T193009
CREATED:20150227T165244Z
LAST-MODIFIED:20150309T114022Z
UID:11759-1425583800-1425591000@www.strawanzerin.at
SUMMARY:Du bist nicht allein
DESCRIPTION:Eine Selbstbeauftragung\nEine Produktion von The Practical Mystery in Kooperation mit WERK X\nNach einer Schizokomödie mit Ideen von: A. Braunshör\, A. Martos\, M. Mattuschka\nUraufführung\nInszenierung: Mara Mattuschka \nWir leben an der Neige des therapeutischen 20. Jahrhunderts. Unser Selbst\, das es seit seiner Erfindung in Spuren zu deuten und zu therapieren gilt\, ist mehr denn je eingespannt in enorme Kräfte. Selbst-Management und Selbst-Optimierung sind Resultat einer Hinwendung zur Innerlichkeit\, die zugleich immer mehr Menschen in Zonen der Unproduktivität und an „Tümpel der Erschöpfung“ (Vogl) spült. Wie aber wird das flexible Subjekt auf eine wirkliche Krise – eine Revolution? – reagieren? Alexander ist auf Selbst-Suche. Er betritt eine Zwischen-Zeit aus Abgründen und Potenzialen. Während ihn die toten Metaphern der Therapie und Szenen massenmedialer Unterhaltungs-Assessments durchziehen\, nistet sich eine Figur der Negativität in seine Meditationen ein: Am Grunde seines gesuchten Selbst ist nicht – wie man vermuten könnte – Nichts. \nEin absurder Monolog\, eine surreale One-Man-Show\, die das Selbst-Optimierungsgebot unserer Zeit unterläuft und an einem gewagten Manöver des Entzugs spektakulär scheitert. \nMit: Alexander Braunshör \nBühne: Deborah Sengl\nMusik: Moritz Wallmüller\nDramaturgie: Alexander Martos \n
URL:https://www.strawanzerin.at/termin/du-bist-nicht-allein/
LOCATION:WERK X-Eldorado\, Petersplatz 1\, Wien\, Wien\, 1010\, Österreich
CATEGORIES:Deutsch,Eintrittspreis,Theater/Kabarett,Wien
ATTACH;FMTTYPE=:
ORGANIZER;CN="WERK%20X":MAILTO:buero@werk-x.at
GEO:48.2091048;16.3701238
X-APPLE-STRUCTURED-LOCATION;VALUE=URI;X-ADDRESS=WERK X-Eldorado Petersplatz 1 Wien Wien 1010 Österreich;X-APPLE-RADIUS=500;X-TITLE=Petersplatz 1:geo:16.3701238,48.2091048
END:VEVENT
END:VCALENDAR