BEGIN:VCALENDAR
VERSION:2.0
PRODID:-//STRAWANZERIN - ECPv4.9.5//NONSGML v1.0//EN
CALSCALE:GREGORIAN
METHOD:PUBLISH
X-WR-CALNAME:STRAWANZERIN
X-ORIGINAL-URL:https://www.strawanzerin.at
X-WR-CALDESC:Veranstaltungen im STRAWANZERIN
BEGIN:VTIMEZONE
TZID:"Europe/Vienna"
BEGIN:DAYLIGHT
TZOFFSETFROM:+0100
TZOFFSETTO:+0200
TZNAME:CEST
DTSTART:20230326T010000
END:DAYLIGHT
BEGIN:STANDARD
TZOFFSETFROM:+0200
TZOFFSETTO:+0100
TZNAME:CET
DTSTART:20231029T010000
END:STANDARD
END:VTIMEZONE
BEGIN:VEVENT
DTSTART;TZID="Europe/Vienna":20230704T190000
DTEND;TZID="Europe/Vienna":20230704T213000
DTSTAMP:20260422T041305
CREATED:20230615T113818Z
LAST-MODIFIED:20230615T113818Z
UID:92180-1688497200-1688506200@www.strawanzerin.at
SUMMARY:Du siehst ja immer noch ganz okay aus. Oder etwa nicht?
DESCRIPTION:Buchpräsentation des neuen Comics vom Älterwerden von Ilse Kilic und Fritz Widhalm \n
URL:https://www.strawanzerin.at/termin/du-siehst-ja-immer-noch-ganz-okay-aus-oder-etwa-nicht/
LOCATION:Depot – Kunst und Diskussion\, Breite Gasse 3\, Wien\, 1070\, Österreich
CATEGORIES:Gratis
ATTACH;FMTTYPE=image/jpeg:https://www.strawanzerin.at/wp-content/uploads/2023/06/screenshot-comic.jpg
END:VEVENT
END:VCALENDAR