BEGIN:VCALENDAR
VERSION:2.0
PRODID:-//STRAWANZERIN - ECPv4.9.5//NONSGML v1.0//EN
CALSCALE:GREGORIAN
METHOD:PUBLISH
X-WR-CALNAME:STRAWANZERIN
X-ORIGINAL-URL:https://www.strawanzerin.at
X-WR-CALDESC:Veranstaltungen im STRAWANZERIN
BEGIN:VTIMEZONE
TZID:"Europe/Helsinki"
BEGIN:DAYLIGHT
TZOFFSETFROM:+0200
TZOFFSETTO:+0300
TZNAME:EEST
DTSTART:20140330T010000
END:DAYLIGHT
BEGIN:STANDARD
TZOFFSETFROM:+0300
TZOFFSETTO:+0200
TZNAME:EET
DTSTART:20141026T010000
END:STANDARD
END:VTIMEZONE
BEGIN:VEVENT
DTSTART;TZID="Europe/Helsinki":20141024T200000
DTEND;TZID="Europe/Helsinki":20141024T230000
DTSTAMP:20260420T182551
CREATED:20141007T141405Z
LAST-MODIFIED:20141010T084904Z
UID:7822-1414180800-1414191600@www.strawanzerin.at
SUMMARY:DuoMusicAdesso im Industrie!
DESCRIPTION:DuoMusicAdesso\nAlex Avantgard und Diego Mune entführen mit italienischen Songs in eine ausdrucksstarke\, gefühlvolle und rhythmisch pulsierende Welt. Auf höchstem musikalischen Niveau überschreiten sie stilistische Grenzen zwischen Jazz\, Avantgarde\, Rock\, Pop\, Fussion\, Funk\, Alternativ\, Groove\, Blues und mehr\, belebt von lateinamerikanischen Einflüssen. Die beiden Ausnahmemusiker sind in ihrer elektronischen als auch akustischen Besetzung ein intensives und wunderbares Musikerlebnis! \n
URL:https://www.strawanzerin.at/termin/duomusicadesso-im-industrie/
LOCATION:Traditionscafé Industrie\, Margaretengürtel 12\, Wien\, Wien\, 1050\, Österreich
CATEGORIES:Deutsch,freie Spende,Musik,Sonstiges,Wien
ATTACH;FMTTYPE=image/jpeg:https://www.strawanzerin.at/wp-content/uploads/2014/10/musicadesso_fb.jpg
ORGANIZER;CN="Ruth%20Binder":MAILTO:event@cafe-industrie.at
GEO:48.1838252;16.3664539
X-APPLE-STRUCTURED-LOCATION;VALUE=URI;X-ADDRESS=Traditionscafé Industrie Margaretengürtel 12 Wien Wien 1050 Österreich;X-APPLE-RADIUS=500;X-TITLE=Margaretengürtel 12:geo:16.3664539,48.1838252
END:VEVENT
END:VCALENDAR