BEGIN:VCALENDAR
VERSION:2.0
PRODID:-//STRAWANZERIN - ECPv4.9.5//NONSGML v1.0//EN
CALSCALE:GREGORIAN
METHOD:PUBLISH
X-WR-CALNAME:STRAWANZERIN
X-ORIGINAL-URL:https://www.strawanzerin.at
X-WR-CALDESC:Veranstaltungen im STRAWANZERIN
BEGIN:VTIMEZONE
TZID:"Europe/Helsinki"
BEGIN:DAYLIGHT
TZOFFSETFROM:+0200
TZOFFSETTO:+0300
TZNAME:EEST
DTSTART:20140330T010000
END:DAYLIGHT
BEGIN:STANDARD
TZOFFSETFROM:+0300
TZOFFSETTO:+0200
TZNAME:EET
DTSTART:20141026T010000
END:STANDARD
END:VTIMEZONE
BEGIN:VEVENT
DTSTART;TZID="Europe/Helsinki":20141023T183000
DTEND;TZID="Europe/Helsinki":20141023T193000
DTSTAMP:20260420T163410
CREATED:20141017T115627Z
LAST-MODIFIED:20141017T115627Z
UID:8186-1414089000-1414092600@www.strawanzerin.at
SUMMARY:DVD-Präsentation: Das älteste Road-Movie - ein sehenswerter Stummfilm mit neuer Musik.
DESCRIPTION:Das wohl älteste Road Movie der Filmgeschichte wird am 23.10. auf DVD präsentiert\nDer Reisefilm „Der Kilometerfresser“ entstand 1923/24 in Zusammenarbeit mit dem Volksbildungshaus Wiener Urania – und ebendort\, am Ort seiner Uraufführung\, wird der restaurierte und mit Orchester vertonte Stummfilm der Öffentlichkeit vorgestellt. Der verschollen geglaubte Film wurde zufällig wiederentdeckt und stellte sich als unterhaltsames Kinoabenteuer und als gelungener Verschnitt von Baedeker und Komödie heraus.\nAls moderner Phileas Fogg bereits der motorradfahrende „Kilometerfresser“ Österreich\, Italien\, den Balkan und die Tschechoslowakei\, besucht Städte und Denkmäler\, zeigt Kultur und Brauchtum\, zeigt mahnende Überbleibsel des Ersten Weltkrieges\, zeigt unverfälscht die Welt von gestern. Was hier rein dokumentarisch klingt\, wird durch eine originelle Rahmenhandlung zusammengehalten.\nAls Filmkonzert war „Der Kilometerfresser“ bereits oft zu sehen\, nun werden Film und Musik auf einer reich ausgestatteten DVD vorgestellt. Der Eintritt zur Präsentation ist frei. \nPresse: bitte Belegexemplare und Pressemappe anfordern. \n
URL:https://www.strawanzerin.at/termin/dvd-praesentation-das-aelteste-road-movie-ein-sehenswerter-stummfilm-mit-neuer-musik/
CATEGORIES:Deutsch,Film,Gratis,Kunst/Kultur,Wien
ATTACH;FMTTYPE=image/jpeg:https://www.strawanzerin.at/wp-content/uploads/2014/10/kmf_banner_rechts.jpg
ORGANIZER;CN="Orchester%20Filmharmonie":MAILTO:kontakt@filmharmonie.at
END:VEVENT
END:VCALENDAR