BEGIN:VCALENDAR
VERSION:2.0
PRODID:-//STRAWANZERIN - ECPv4.9.5//NONSGML v1.0//EN
CALSCALE:GREGORIAN
METHOD:PUBLISH
X-WR-CALNAME:STRAWANZERIN
X-ORIGINAL-URL:https://www.strawanzerin.at
X-WR-CALDESC:Veranstaltungen im STRAWANZERIN
BEGIN:VTIMEZONE
TZID:"Europe/Helsinki"
BEGIN:DAYLIGHT
TZOFFSETFROM:+0200
TZOFFSETTO:+0300
TZNAME:EEST
DTSTART:20140330T010000
END:DAYLIGHT
BEGIN:STANDARD
TZOFFSETFROM:+0300
TZOFFSETTO:+0200
TZNAME:EET
DTSTART:20141026T010000
END:STANDARD
END:VTIMEZONE
BEGIN:VEVENT
DTSTART;TZID="Europe/Helsinki":20141118T190000
DTEND;TZID="Europe/Helsinki":20141118T210000
DTSTAMP:20260421T040522
CREATED:20140904T151141Z
LAST-MODIFIED:20140905T081035Z
UID:4626-1416337200-1416344400@www.strawanzerin.at
SUMMARY:Early adopter\, late follower und offliner
DESCRIPTION:Gibt es einen digital divide in der zeitgenössischen politischen Kommunikation? Wie beurteilen ExpertInnen den Beitrag von Social-Media-Plattformen wie Facebook\, Twitter etc. zur politischen Meinungsbildung? Können wir hier überhaupt von politischer Bildung sprechen? \n
URL:https://www.strawanzerin.at/termin/early-adopter-late-follower-und-offliner/
CATEGORIES:Bildung,Deutsch,Gratis,Vortrag/Symposium,Wien
END:VEVENT
END:VCALENDAR