BEGIN:VCALENDAR
VERSION:2.0
PRODID:-//STRAWANZERIN - ECPv4.9.5//NONSGML v1.0//EN
CALSCALE:GREGORIAN
METHOD:PUBLISH
X-WR-CALNAME:STRAWANZERIN
X-ORIGINAL-URL:https://www.strawanzerin.at
X-WR-CALDESC:Veranstaltungen im STRAWANZERIN
BEGIN:VTIMEZONE
TZID:"Europe/Helsinki"
BEGIN:DAYLIGHT
TZOFFSETFROM:+0200
TZOFFSETTO:+0300
TZNAME:EEST
DTSTART:20150329T010000
END:DAYLIGHT
BEGIN:STANDARD
TZOFFSETFROM:+0300
TZOFFSETTO:+0200
TZNAME:EET
DTSTART:20151025T010000
END:STANDARD
END:VTIMEZONE
BEGIN:VEVENT
DTSTART;TZID="Europe/Helsinki":20150216T193000
DTEND;TZID="Europe/Helsinki":20150216T210000
DTSTAMP:20260420T152039
CREATED:20150206T182316Z
LAST-MODIFIED:20150213T154646Z
UID:11143-1424115000-1424120400@www.strawanzerin.at
SUMMARY:East of Berlin (Bilingual - Deutsch/Englisch)
DESCRIPTION:Theaterstück über die Nachfolgegeneration des 2. Weltkrieges \n
URL:https://www.strawanzerin.at/termin/east-of-berlin-bilingual-deutschenglisch/2015-02-16/
LOCATION:Theater Brett\, Münzwardeingasse 2\, Wien\, Wien\, 1060\, Österreich
CATEGORIES:ab 7,Deutsch,Kunst/Kultur,Theater/Kabarett,Wien
ATTACH;FMTTYPE=image/jpeg:https://www.strawanzerin.at/wp-content/uploads/2015/02/eastofberlin_small.jpg
ORGANIZER;CN="Theatermenschen":MAILTO:theatermenschen@gmail.com
GEO:48.1940234;16.3518698
X-APPLE-STRUCTURED-LOCATION;VALUE=URI;X-ADDRESS=Theater Brett Münzwardeingasse 2 Wien Wien 1060 Österreich;X-APPLE-RADIUS=500;X-TITLE=Münzwardeingasse 2:geo:16.3518698,48.1940234
END:VEVENT
END:VCALENDAR