BEGIN:VCALENDAR
VERSION:2.0
PRODID:-//STRAWANZERIN - ECPv4.9.5//NONSGML v1.0//EN
CALSCALE:GREGORIAN
METHOD:PUBLISH
X-WR-CALNAME:STRAWANZERIN
X-ORIGINAL-URL:https://www.strawanzerin.at
X-WR-CALDESC:Veranstaltungen im STRAWANZERIN
BEGIN:VTIMEZONE
TZID:"Europe/Helsinki"
BEGIN:DAYLIGHT
TZOFFSETFROM:+0200
TZOFFSETTO:+0300
TZNAME:EEST
DTSTART:20160327T010000
END:DAYLIGHT
BEGIN:STANDARD
TZOFFSETFROM:+0300
TZOFFSETTO:+0200
TZNAME:EET
DTSTART:20161030T010000
END:STANDARD
END:VTIMEZONE
BEGIN:VEVENT
DTSTART;TZID="Europe/Helsinki":20161112T220000
DTEND;TZID="Europe/Helsinki":20161113T050000
DTSTAMP:20260423T120551
CREATED:20161007T104928Z
LAST-MODIFIED:20161010T153020Z
UID:34586-1478988000-1479013200@www.strawanzerin.at
SUMMARY:Easy Access
DESCRIPTION:Easy Access is a monthly event series presenting contemporary DIY music in all its shimmering facades. One night to focus on eclectic live performances\, reduced to itself to unfold their full engaging power. burt\, the bar provides Easy Access to intimate shows in pleasing stage ambiance.  \n
URL:https://www.strawanzerin.at/termin/easy-access/
LOCATION:brut im Künstlerhaus\, Karlsplatz 5\, Wien\, 1010\, Österreich
CATEGORIES:bis 7,Musik,Sonstiges,Wien
ATTACH;FMTTYPE=image/jpeg:https://www.strawanzerin.at/wp-content/uploads/2016/10/web_Pomeranze_schwarz_aduado.jpg
GEO:48.200534;16.3715493
X-APPLE-STRUCTURED-LOCATION;VALUE=URI;X-ADDRESS=brut im Künstlerhaus Karlsplatz 5 Wien 1010 Österreich;X-APPLE-RADIUS=500;X-TITLE=Karlsplatz 5:geo:16.3715493,48.200534
END:VEVENT
END:VCALENDAR