BEGIN:VCALENDAR
VERSION:2.0
PRODID:-//STRAWANZERIN - ECPv4.9.5//NONSGML v1.0//EN
CALSCALE:GREGORIAN
METHOD:PUBLISH
X-WR-CALNAME:STRAWANZERIN
X-ORIGINAL-URL:https://www.strawanzerin.at
X-WR-CALDESC:Veranstaltungen im STRAWANZERIN
BEGIN:VTIMEZONE
TZID:"Europe/Vienna"
BEGIN:DAYLIGHT
TZOFFSETFROM:+0100
TZOFFSETTO:+0200
TZNAME:CEST
DTSTART:20240331T010000
END:DAYLIGHT
BEGIN:STANDARD
TZOFFSETFROM:+0200
TZOFFSETTO:+0100
TZNAME:CET
DTSTART:20241027T010000
END:STANDARD
END:VTIMEZONE
BEGIN:VEVENT
DTSTART;TZID="Europe/Vienna":20241012T120000
DTEND;TZID="Europe/Vienna":20241012T120000
DTSTAMP:20260423T193338
CREATED:20240913T124629Z
LAST-MODIFIED:20240913T124629Z
UID:103253-1728734400-1728734400@www.strawanzerin.at
SUMMARY:EHRBARE KINDERKONZERTE: Die Geschichte der Hörner
DESCRIPTION:Mitwirkende:\nHORN Hermann Ebner\, Mitglied im ORCHESTER WIENER AKADEMIE\nEhrBÄR Branimir Agovi\, Bariton \nIn der Reihe der Gratis-Kinderkonzerte im Ehrbar Saal wird diesmal „Die Geschichte der Hörner“ erzählt\, und zwar vom Hornisten Hermann Ebner\, der die Kinder mit Freude und Spaß an dieses Blechblasinstrument heranführen wird.\nMit dabei sein wird auch wieder der mittlerweile vom kleinen Publikum heißgeliebte EhrBÄR\, den Branimir Agovi hinreißend verkörpert. \nTermin: So\, 12. Oktober 2024 | 11 bis 12 Uhr | Ehrbar Saal\nEintritt frei (Zählkarten bei eventjet.at)\nEhrbar Saal Mühlgasse 30\, 1040 Wien www.ehrbarsaal.at \n
URL:https://www.strawanzerin.at/termin/ehrbare-kinderkonzerte-die-geschichte-der-hoerner/
CATEGORIES:Gratis,Kinderkultur,Musik,Wien
ATTACH;FMTTYPE=image/jpeg:https://www.strawanzerin.at/wp-content/uploads/2024/09/Ehrbare-Kinderkonzerte_©Ehrbar-Saal.jpeg
END:VEVENT
END:VCALENDAR