BEGIN:VCALENDAR
VERSION:2.0
PRODID:-//STRAWANZERIN - ECPv4.9.5//NONSGML v1.0//EN
CALSCALE:GREGORIAN
METHOD:PUBLISH
X-WR-CALNAME:STRAWANZERIN
X-ORIGINAL-URL:https://www.strawanzerin.at
X-WR-CALDESC:Veranstaltungen im STRAWANZERIN
BEGIN:VTIMEZONE
TZID:"Europe/Vienna"
BEGIN:DAYLIGHT
TZOFFSETFROM:+0100
TZOFFSETTO:+0200
TZNAME:CEST
DTSTART:20180325T010000
END:DAYLIGHT
BEGIN:STANDARD
TZOFFSETFROM:+0200
TZOFFSETTO:+0100
TZNAME:CET
DTSTART:20181028T010000
END:STANDARD
END:VTIMEZONE
BEGIN:VEVENT
DTSTART;TZID="Europe/Vienna":20180514T183000
DTEND;TZID="Europe/Vienna":20180514T220000
DTSTAMP:20260420T132052
CREATED:20180502T110536Z
LAST-MODIFIED:20180503T071811Z
UID:55266-1526322600-1526335200@www.strawanzerin.at
SUMMARY:EIN BRIEF IST MEHR  ALS NUR EIN BRIEF
DESCRIPTION:ANIMA INCOGNITA KULTURVEREIN lädt ein zu einer Lesung: \nZum 100. Jahrestag des Pionierflugs der internationalen Luftpost\,\nder von Wien über Krakau und Lemberg nach Kiew ging \nBekommt man einen Brief von jemandem\, den man liebt\,\nmöchte man nicht so sehr wissen\, was geschehen ist\,\nsondern wie der Betreffende das Geschehen sieht.\nLeo Nikolajewitsch Graf Tolstoi \nMITWIRKENDE: \nGerhard Blaboll\nHannes Margreiter\nAndrea Roitner\nIngrid Schramm\nPetra Sela\nClementine Skorpil\nMichael Stradal\nMagdalena Tschurlovits\nChristine Tippelreiter \nModeration: Christine Nyirady \nNach der Lesung laden wir Sie herzlichst\nzu einem Gespräch mit den Autor/inn/en bei einem Glas Wein ein! \nAm Veranstaltungsort werden Fotos und Videos angefertigt.\nDie Teilnehmer der Veranstaltung erklären ihr Einverständnis zur Erstellung und weiterer Veröffentlichung von Bild- und Videoaufnahmen ihrer Person im Rahmen dieser Veranstaltung \n
URL:https://www.strawanzerin.at/termin/ein-brief-ist-mehr-als-nur-ein-brief/
LOCATION:Kunstraum der Ringstraßen Galerien\, Kärntner Ring 9-13\, Wien\, Wien\, 1010\, Österreich
CATEGORIES:Gratis
ATTACH;FMTTYPE=image/png:https://www.strawanzerin.at/wp-content/uploads/2018/05/EinBrief.png
ORGANIZER;CN="Kunstverein%20Anima%20incognita":MAILTO:diana.wiedra@chello.at
GEO:48.2021105;16.3720841
X-APPLE-STRUCTURED-LOCATION;VALUE=URI;X-ADDRESS=Kunstraum der Ringstraßen Galerien Kärntner Ring 9-13 Wien Wien 1010 Österreich;X-APPLE-RADIUS=500;X-TITLE=Kärntner Ring 9-13:geo:16.3720841,48.2021105
END:VEVENT
END:VCALENDAR