BEGIN:VCALENDAR
VERSION:2.0
PRODID:-//STRAWANZERIN - ECPv4.9.5//NONSGML v1.0//EN
CALSCALE:GREGORIAN
METHOD:PUBLISH
X-WR-CALNAME:STRAWANZERIN
X-ORIGINAL-URL:https://www.strawanzerin.at
X-WR-CALDESC:Veranstaltungen im STRAWANZERIN
BEGIN:VTIMEZONE
TZID:"Europe/Vienna"
BEGIN:DAYLIGHT
TZOFFSETFROM:+0100
TZOFFSETTO:+0200
TZNAME:CEST
DTSTART:20190331T010000
END:DAYLIGHT
BEGIN:STANDARD
TZOFFSETFROM:+0200
TZOFFSETTO:+0100
TZNAME:CET
DTSTART:20191027T010000
END:STANDARD
END:VTIMEZONE
BEGIN:VEVENT
DTSTART;TZID="Europe/Vienna":20190112T201500
DTEND;TZID="Europe/Vienna":20190112T221500
DTSTAMP:20260420T193440
CREATED:20181212T145942Z
LAST-MODIFIED:20181212T150051Z
UID:61147-1547324100-1547331300@www.strawanzerin.at
SUMMARY:»Ein Käfig voller Narren« in der Komödie am Kai
DESCRIPTION:Der Kult-Hit von Autor Jean Poiret erzählt die herrliche Geschichte einer Ehekrise im Hause des schwulen Nachtclubinhaber-Pärchens Zaza und George. Von 12. Jänner bis 2. Februar 2019 garantieren urkomische Momente\, ein turbulentes Chaos\, berührende Augenblicke\, freche Dialoge und dezente Frivolität einen heiteren\, prickelnden Theaterabend am Franz-Josefs-Kai. In den Hauptrollen glänzen René Rumpold und Johannes Terne. Nach der Regie von Marcus Strahl und adaptiert für die Komödie am Kai von Sissy Boran. \nInfo:\nTel. 01 533 24 34 \nFoto/© Sam Madwar\, Grafik: Andreas Ivancsics \n
URL:https://www.strawanzerin.at/termin/ein-kaefig-voller-narren-in-der-komoedie-am-kai/2019-01-12/
LOCATION:Komödie am Kai\, Franz-Josefs-Kai 29\, Wien\, Wien\, 1010\, Österreich
CATEGORIES:ab 7,Theater/Kabarett,Wien
ATTACH;FMTTYPE=image/jpeg:https://www.strawanzerin.at/wp-content/uploads/2018/12/Ein-Käfig-voller-Narren-Sujet-vertical-small.jpg
GEO:48.2121522;16.3749182
X-APPLE-STRUCTURED-LOCATION;VALUE=URI;X-ADDRESS=Komödie am Kai Franz-Josefs-Kai 29 Wien Wien 1010 Österreich;X-APPLE-RADIUS=500;X-TITLE=Franz-Josefs-Kai 29:geo:16.3749182,48.2121522
END:VEVENT
END:VCALENDAR