BEGIN:VCALENDAR
VERSION:2.0
PRODID:-//STRAWANZERIN - ECPv4.9.5//NONSGML v1.0//EN
CALSCALE:GREGORIAN
METHOD:PUBLISH
X-WR-CALNAME:STRAWANZERIN
X-ORIGINAL-URL:https://www.strawanzerin.at
X-WR-CALDESC:Veranstaltungen im STRAWANZERIN
BEGIN:VTIMEZONE
TZID:"Europe/Vienna"
BEGIN:DAYLIGHT
TZOFFSETFROM:+0100
TZOFFSETTO:+0200
TZNAME:CEST
DTSTART:20250330T010000
END:DAYLIGHT
BEGIN:STANDARD
TZOFFSETFROM:+0200
TZOFFSETTO:+0100
TZNAME:CET
DTSTART:20251026T010000
END:STANDARD
END:VTIMEZONE
BEGIN:VEVENT
DTSTART;TZID="Europe/Vienna":20250527T200000
DTEND;TZID="Europe/Vienna":20250527T220000
DTSTAMP:20260422T154311
CREATED:20250430T065735Z
LAST-MODIFIED:20250430T065735Z
UID:107588-1748376000-1748383200@www.strawanzerin.at
SUMMARY:»Ein Mords-Sonntag« in der Komödie am Kai
DESCRIPTION:Schräge Charaktere\, schwarzer Humor und überraschende Wendungen. All das verspricht das kriminell komische Stück mit Ulli Fessl\, Doris Weiner und Rafael Witak: Zwei vereinsamte Schwestern langweilen sich in ihrem Häuschen. Doch dann verschwindet eines Tages die Nachbarin spurlos. Das treibt die beiden Geschwister zu einem skurrilen Mörderspiel. Es beginnt mit einem anonymen Brief\, der prompt den örtlichen Inspektor auf den Plan ruft. Wunderbar: Herrenbesuch! Auf diesen wirkt jedoch alles höchst verdächtig\, und plötzlich dreht sich der Spieß um. Die Folge ist eine mordsmäßig gute Unterhaltung! \nRegie führen Sissy Boran und Andrea Eckstein. \nPremiere:\nDienstag\, 27. Mai 2025\, 20 Uhr \nVorstellungen:\n24. Mai bis 21. Juni & 29. August bis 14. September 2025\, Dienstag bis Samstag um 20 Uhr\nsowie Sonntag\, 15. Juni & Sonntag\, 14. September 2025 um 16 Uhr \nOrt:\nKomödie am Kai\, Franz-Josefs-Kai 29\, 1010 Wien \nInfo:\nTel. +43 1 533 24 34 \nFoto/© Komödie am Kai \n
URL:https://www.strawanzerin.at/termin/ein-mords-sonntag-in-der-komoedie-am-kai/
LOCATION:Komödie am Kai\, Franz-Josefs-Kai 29\, Wien\, Wien\, 1010\, Österreich
CATEGORIES:ab 7,Theater/Kabarett,Wien
ATTACH;FMTTYPE=image/jpeg:https://www.strawanzerin.at/wp-content/uploads/2025/04/258presse.jpg
GEO:48.2121522;16.3749182
X-APPLE-STRUCTURED-LOCATION;VALUE=URI;X-ADDRESS=Komödie am Kai Franz-Josefs-Kai 29 Wien Wien 1010 Österreich;X-APPLE-RADIUS=500;X-TITLE=Franz-Josefs-Kai 29:geo:16.3749182,48.2121522
END:VEVENT
END:VCALENDAR