BEGIN:VCALENDAR
VERSION:2.0
PRODID:-//STRAWANZERIN - ECPv4.9.5//NONSGML v1.0//EN
CALSCALE:GREGORIAN
METHOD:PUBLISH
X-WR-CALNAME:STRAWANZERIN
X-ORIGINAL-URL:https://www.strawanzerin.at
X-WR-CALDESC:Veranstaltungen im STRAWANZERIN
BEGIN:VTIMEZONE
TZID:"Europe/Paris"
BEGIN:DAYLIGHT
TZOFFSETFROM:+0100
TZOFFSETTO:+0200
TZNAME:CEST
DTSTART:20150329T010000
END:DAYLIGHT
BEGIN:STANDARD
TZOFFSETFROM:+0200
TZOFFSETTO:+0100
TZNAME:CET
DTSTART:20151025T010000
END:STANDARD
END:VTIMEZONE
BEGIN:VEVENT
DTSTART;TZID="Europe/Paris":20150903T100000
DTEND;TZID="Europe/Paris":20151012T190000
DTSTAMP:20260421T052043
CREATED:20150701T111006Z
LAST-MODIFIED:20150705T090601Z
UID:18142-1441274400-1444676400@www.strawanzerin.at
SUMMARY:Ein Raum für Fünf
DESCRIPTION:Zwanzig Architekturjahre \nVeranstaltungsort: Architekturzentrum Wien – Alte Halle\nAusstellung: 3. September 2015 – 12. Oktober 2015\nÖffnungszeiten: täglich 10-19 Uhr\nEröffnung: Mittwoch\, 2. September 2015\, 19 Uhr\nTickets: 8 EUR / ermäßigt 6 EUR / freier Eintritt für medium- und large-Partner / Familienkarte 12 EUR / SchülerInnen 2\,50 EUR / StudentInnen: mittwochs freier Eintritt von 17-19 Uhr \nMit der Ausstellung „Ein Raum für Fünf“ präsentierten 1995 die ArchitektInnen Dieter Henke\, Marta Schreieck\, Rüdiger Lainer\, Walter Stelzhammer und Albert Wimmer ihren Zugang zur Architektur. 2015 wird ihr Werk und ihr Wirken erneut im Format Ausstellung untersucht und befragt. Den gemeinsamen Nenner bieten der Kontext Wien und die Produktionsbedingungen einer wachsenden Stadt mit beschränkten Ressourcen. Wie stark ist das architektonische Tun von gesellschaftlichen\, ökonomischen und politischen Rahmenbedingungen geprägt\, und wieviel Zufall ist im Spiel? Die Resultate und Positionen der fünf ArchitektInnen sind sehr unterschiedlich\, ihre Weg dorthin ebenso. \n„Ein Raum für Fünf. Zwanzig Architekturjahre“ blickt hinter die Kulissen und ermöglicht Einblicke in die Arbeitsmethoden und Referenzsysteme der ArchitektInnen. Der Fokus liegt auf dem Schaffensprozess\, aus dem heraus die Projekte entwickelt werden. Wie werden favorisierte Themen und Haltungen von einem Projekt ins nächste getragen und verfeinert? Welche Umwege und Seitensprünge sind dabei notwendig? \nDie Ausstellung wird von Arquitectos (Heidi Pretterhofer und Dieter Spath) kuratiert und gestaltet.\nProjektkoordination: Katharina Ritter \n
URL:https://www.strawanzerin.at/termin/ein-raum-fuer-fuenf/
LOCATION:Österreich
CATEGORIES:Ausstellung,Bildung,Deutsch,Eintrittspreis,Wien
ATTACH;FMTTYPE=image/jpeg:https://www.strawanzerin.at/wp-content/uploads/2015/07/Klein_alte-halle_1.jpg
END:VEVENT
END:VCALENDAR