BEGIN:VCALENDAR
VERSION:2.0
PRODID:-//STRAWANZERIN - ECPv4.9.5//NONSGML v1.0//EN
CALSCALE:GREGORIAN
METHOD:PUBLISH
X-WR-CALNAME:STRAWANZERIN
X-ORIGINAL-URL:https://www.strawanzerin.at
X-WR-CALDESC:Veranstaltungen im STRAWANZERIN
BEGIN:VTIMEZONE
TZID:"Europe/Vienna"
BEGIN:DAYLIGHT
TZOFFSETFROM:+0100
TZOFFSETTO:+0200
TZNAME:CEST
DTSTART:20240331T010000
END:DAYLIGHT
BEGIN:STANDARD
TZOFFSETFROM:+0200
TZOFFSETTO:+0100
TZNAME:CET
DTSTART:20241027T010000
END:STANDARD
END:VTIMEZONE
BEGIN:VEVENT
DTSTART;TZID="Europe/Vienna":20241224T140000
DTEND;TZID="Europe/Vienna":20241224T160000
DTSTAMP:20260422T023657
CREATED:20260128T142008Z
LAST-MODIFIED:20260128T142008Z
UID:103639-1735048800-1735056000@www.strawanzerin.at
SUMMARY:Eine "etwas andere" Weihnachtsgeschichte | Familienvorstellung | 6. Eigenproduktion
DESCRIPTION:Komm mit auf eine Reise in den geheimnisvollen Kristallwald der magischen Schneekugelwelt\, in der immer Weihnachten ist. Dort lebt ein einsamer\, grimmiger Holzfäller\, der keine Freude mehr am Weihnachtsfest hat – bis ihm drei Geister erscheinen\, die sie ihm zurückbringen wollen. Sie nehmen ihn mit auf eine unvergessliche Reise durch Vergangenheit\, Gegenwart und Zukunft – begleitet von spektakulärer Artistik\, mitreißendem Tanz und bewegender Musik. \nErlebe in unserer winterlich-weihnachtlichen Show eine spannende\, fröhliche und völlige andere Weihnachtsgeschichte\, als du sie bisher kennst – sie wird dich verzaubern und dein Herz erwärmen! \n
URL:https://www.strawanzerin.at/termin/eine-etwas-andere-weihnachtsgeschichte-familienvorstellung-6-eigenproduktion/
LOCATION:Papierfabrik Varieté\, Kirchenplatz 9\, Kleinneusiedl\, Niederösterreich\, 2431
CATEGORIES:Niederösterreich,Theater/Kabarett
ATTACH;FMTTYPE=image/jpeg:https://www.strawanzerin.at/wp-content/uploads/2024/09/Weihnachtsgeschichte-Titelbild-1.jpeg
ORGANIZER;CN="Papierfabrik%20Variet%C3%A9":MAILTO:info@papierfabrik-variete.com
END:VEVENT
END:VCALENDAR