BEGIN:VCALENDAR
VERSION:2.0
PRODID:-//STRAWANZERIN - ECPv4.9.5//NONSGML v1.0//EN
CALSCALE:GREGORIAN
METHOD:PUBLISH
X-WR-CALNAME:STRAWANZERIN
X-ORIGINAL-URL:https://www.strawanzerin.at
X-WR-CALDESC:Veranstaltungen im STRAWANZERIN
BEGIN:VTIMEZONE
TZID:"Europe/Vienna"
BEGIN:DAYLIGHT
TZOFFSETFROM:+0100
TZOFFSETTO:+0200
TZNAME:CEST
DTSTART:20180325T010000
END:DAYLIGHT
BEGIN:STANDARD
TZOFFSETFROM:+0200
TZOFFSETTO:+0100
TZNAME:CET
DTSTART:20181028T010000
END:STANDARD
END:VTIMEZONE
BEGIN:VEVENT
DTSTART;TZID="Europe/Vienna":20180318T160000
DTEND;TZID="Europe/Vienna":20180318T180000
DTSTAMP:20260420T212619
CREATED:20180219T093309Z
LAST-MODIFIED:20180219T093309Z
UID:52425-1521388800-1521396000@www.strawanzerin.at
SUMMARY:„Eine Werkschau“ zeigt Peter Schneider
DESCRIPTION:Peter Schneider präsentiert „Eine Werkschau“\nVernissage am Sonntag 18.3.2018 um 16Uhr\nAusstellung täglich von 14-19Uhr bis 23.3.2018\nFinissage am Freitag 23.3.2018 um 19Uhr\nin der Galerie Sandpeck Wien 8\nFlorianigasse 75\, Ecke Uhlplatz\nfreier Eintritt!\nmehr www.sandpeck.com \n
URL:https://www.strawanzerin.at/termin/eine-werkschau-zeigt-peter-schneider-2/2018-03-18/
LOCATION:Galerie Sandpeck\, Florianigasse 75\, Wien\, Wien\, 1080\, Österreich
CATEGORIES:Ausstellung,Deutsch,Gratis,Kunst/Kultur,Wien
ATTACH;FMTTYPE=image/jpeg:https://www.strawanzerin.at/wp-content/uploads/2018/02/Schneider_Galerie_Sandpeck_Wien_8-1.jpg
ORGANIZER;CN="Galerie%20Sandpeck":MAILTO:christiane@sandpeck.com
GEO:48.2119839;16.3409609
X-APPLE-STRUCTURED-LOCATION;VALUE=URI;X-ADDRESS=Galerie Sandpeck Florianigasse 75 Wien Wien 1080 Österreich;X-APPLE-RADIUS=500;X-TITLE=Florianigasse 75:geo:16.3409609,48.2119839
END:VEVENT
END:VCALENDAR