BEGIN:VCALENDAR
VERSION:2.0
PRODID:-//STRAWANZERIN - ECPv4.9.5//NONSGML v1.0//EN
CALSCALE:GREGORIAN
METHOD:PUBLISH
X-WR-CALNAME:STRAWANZERIN
X-ORIGINAL-URL:https://www.strawanzerin.at
X-WR-CALDESC:Veranstaltungen im STRAWANZERIN
BEGIN:VTIMEZONE
TZID:"Europe/Vienna"
BEGIN:DAYLIGHT
TZOFFSETFROM:+0100
TZOFFSETTO:+0200
TZNAME:CEST
DTSTART:20200329T010000
END:DAYLIGHT
BEGIN:STANDARD
TZOFFSETFROM:+0200
TZOFFSETTO:+0100
TZNAME:CET
DTSTART:20201025T010000
END:STANDARD
END:VTIMEZONE
BEGIN:VEVENT
DTSTART;TZID="Europe/Vienna":20200923T180000
DTEND;TZID="Europe/Vienna":20200923T200000
DTSTAMP:20260422T155314
CREATED:20200910T105948Z
LAST-MODIFIED:20200917T101221Z
UID:75480-1600884000-1600891200@www.strawanzerin.at
SUMMARY:Einladung zur Podiumsdiskussion "Folgt auf die CORONA-Pandemie eine Armutswelle?"
DESCRIPTION:Die Corona-Krise\, die seit März 2020 nahezu die gesamte Welt im Griff hält\, hat nicht nur gesundheitliche Aspekte.\nBereits bestehende strukturelle Probleme werden durch die Krise verstärkt\nund haben für viele Menschen weitreichende soziale Folgen: isolationsbedingte Vereinsamung\, stressbedingte multiple Überlastung\, bis hin zu sozioökonomischen Krisen\, finanzielle Einbußen durch Arbeitslosigkeit oder drohender Insolvenzen.\nDiese Auswirkungen sind in der Bevölkerung heterogen verteilt und daher differenziert zu betrachten. Eines aber ist sicher: wer bereits vor der Corona-Pandemie von Armut betroffen war\, den/die trifft die Krise noch ungemein härter. \n
URL:https://www.strawanzerin.at/termin/einladung-zur-podiumsdiskussion-folgt-auf-die-corona-pandemie-eine-armutswelle/
LOCATION:1010 Wien\, Wien\, WIen\, 1010\, Österreich
CATEGORIES:Vortrag/Symposium
ATTACH;FMTTYPE=image/jpeg:https://www.strawanzerin.at/wp-content/uploads/2020/09/die-wiener-volkshochschulen-quadratisch-scaled.jpg
ORGANIZER;CN="Wiener%20Volkshochschulen":MAILTO:marketing@vhs.at
END:VEVENT
END:VCALENDAR