BEGIN:VCALENDAR
VERSION:2.0
PRODID:-//STRAWANZERIN - ECPv4.9.5//NONSGML v1.0//EN
CALSCALE:GREGORIAN
METHOD:PUBLISH
X-WR-CALNAME:STRAWANZERIN
X-ORIGINAL-URL:https://www.strawanzerin.at
X-WR-CALDESC:Veranstaltungen im STRAWANZERIN
BEGIN:VTIMEZONE
TZID:"Europe/Vienna"
BEGIN:DAYLIGHT
TZOFFSETFROM:+0100
TZOFFSETTO:+0200
TZNAME:CEST
DTSTART:20220327T010000
END:DAYLIGHT
BEGIN:STANDARD
TZOFFSETFROM:+0200
TZOFFSETTO:+0100
TZNAME:CET
DTSTART:20221030T010000
END:STANDARD
END:VTIMEZONE
BEGIN:VEVENT
DTSTART;VALUE=DATE:20220215
DTEND;VALUE=DATE:20220411
DTSTAMP:20260421T033241
CREATED:20220203T150103Z
LAST-MODIFIED:20220302T120204Z
UID:82753-1644897600-1649563199@www.strawanzerin.at
SUMMARY:Einzelausstellung „Bona Dea“ von Lina Hermsdorf
DESCRIPTION:Die Künstlerin und Choreografin Lina Hermsdorf präsentiert die dritte Episode ihres audiovisuellen Werkes „Bona Dea“. Darin setzt sich Lina Hermsdorf mit einer in der Antike ausschließlich Frauen zugänglichen Kultstätte\, einem Wald in Umbrien (Italien)\, als Wissenskörper auseinander und eröffnet geopoetische Perspektiven auf die Natur.   \nDrohnenaufnahmen\, CGI Footage und Google Earth Material\, die den Wald aus verschiedenen Blickwinkeln zeigen\, bilden das Grundgerüst der Video Installation. Überlagert von biografischen Elementen der Sprecherin\, Paola Dionisotti (*1953)\, erzählt „Bona Dea“ von zyklischen Rhythmen und erinnert an die Gesetzlichkeit von Wachstums-\, Zerfall- bzw. Alterungsprozessen. In ihren Arbeiten problematisiert die Lina Hermsdorf anthropozentrische Sichtweisen und verweist auf unser komplexes Verhältnis zur Natur. Gerade jetzt\, da uns die Pandemie unsere Fragilität und Abhängigkeiten vor Augen führt\, lenkt sie den Blick auf unsere Beziehung zum Natürlichem\, auf die Vielfalt von möglichen Erzählungen. \nDie Ausstellung findet im Rahmen des Foto Wien Festivals 2022 statt und wird durch einem Begleitprogramm ergänzt\, das zeitnah bekannt gegeben wird. \n
URL:https://www.strawanzerin.at/termin/einzelausstellung-bona-dea-von-lina-hermsdorf/
LOCATION:Das Weisse Haus\, Hegelgasse 14\, Wien\, 1010\, Österreich
ATTACH;FMTTYPE=image/png:https://www.strawanzerin.at/wp-content/uploads/2022/02/dwh-bild.png
END:VEVENT
END:VCALENDAR