BEGIN:VCALENDAR
VERSION:2.0
PRODID:-//STRAWANZERIN - ECPv4.9.5//NONSGML v1.0//EN
CALSCALE:GREGORIAN
METHOD:PUBLISH
X-WR-CALNAME:STRAWANZERIN
X-ORIGINAL-URL:https://www.strawanzerin.at
X-WR-CALDESC:Veranstaltungen im STRAWANZERIN
BEGIN:VTIMEZONE
TZID:"Europe/Helsinki"
BEGIN:DAYLIGHT
TZOFFSETFROM:+0200
TZOFFSETTO:+0300
TZNAME:EEST
DTSTART:20160327T010000
END:DAYLIGHT
BEGIN:STANDARD
TZOFFSETFROM:+0300
TZOFFSETTO:+0200
TZNAME:EET
DTSTART:20161030T010000
END:STANDARD
END:VTIMEZONE
BEGIN:VEVENT
DTSTART;TZID="Europe/Helsinki":20160513T200000
DTEND;TZID="Europe/Helsinki":20160513T220000
DTSTAMP:20260423T143957
CREATED:20160426T102315Z
LAST-MODIFIED:20160427T150935Z
UID:27098-1463169600-1463176800@www.strawanzerin.at
SUMMARY:El Paso liegt in Mürzzuschlag - Von Erdberg nach Nashville
DESCRIPTION:El Paso liegt in Mürzzuschlag. Das ist keine Behauptung\, das ist eine Feststellung. Es ist so. Aus! Basta!\nWarum das so ist (und viele Dinge mehr)\, erzählen der Wiener Autor und Satiriker Harald Pesata und der Wiener Singer Songwriter Johannes „KO-DO“ Dittler im Café Industrie im 5. Bezirk. Ganz nebenbei erfährt man an diesem Abend auch\, wie man am schnellsten von Erdberg nach Nashville kommt.\nMehr über Harald Pesata: http://www.pesata.at\nMehr über KO-DO: http://www.ko-do.at/   \n
URL:https://www.strawanzerin.at/termin/el-paso-liegt-in-muerzzuschlag-von-erdberg-nach-nashville/
LOCATION:Traditionscafé Industrie\, Margaretengürtel 12\, Wien\, Wien\, 1050\, Österreich
CATEGORIES:Deutsch,freie Spende,Kunst/Kultur,Musik,Wien
ATTACH;FMTTYPE=image/jpeg:https://www.strawanzerin.at/wp-content/uploads/2016/04/kodo_pesata_industrie.jpg
ORGANIZER;CN="Harald%20Pesata":MAILTO:harald@pesata.at
GEO:48.1838252;16.3664539
X-APPLE-STRUCTURED-LOCATION;VALUE=URI;X-ADDRESS=Traditionscafé Industrie Margaretengürtel 12 Wien Wien 1050 Österreich;X-APPLE-RADIUS=500;X-TITLE=Margaretengürtel 12:geo:16.3664539,48.1838252
END:VEVENT
END:VCALENDAR