BEGIN:VCALENDAR
VERSION:2.0
PRODID:-//STRAWANZERIN - ECPv4.9.5//NONSGML v1.0//EN
CALSCALE:GREGORIAN
METHOD:PUBLISH
X-WR-CALNAME:STRAWANZERIN
X-ORIGINAL-URL:https://www.strawanzerin.at
X-WR-CALDESC:Veranstaltungen im STRAWANZERIN
BEGIN:VTIMEZONE
TZID:"Europe/Helsinki"
BEGIN:DAYLIGHT
TZOFFSETFROM:+0200
TZOFFSETTO:+0300
TZNAME:EEST
DTSTART:20160327T010000
END:DAYLIGHT
BEGIN:STANDARD
TZOFFSETFROM:+0300
TZOFFSETTO:+0200
TZNAME:EET
DTSTART:20161030T010000
END:STANDARD
END:VTIMEZONE
BEGIN:VEVENT
DTSTART;TZID="Europe/Helsinki":20161104T200000
DTEND;TZID="Europe/Helsinki":20161104T213000
DTSTAMP:20260422T121939
CREATED:20161010T153313Z
LAST-MODIFIED:20161010T153313Z
UID:34572-1478289600-1478295000@www.strawanzerin.at
SUMMARY:Elizabeth Ward & AC/Boy: everything is in everything
DESCRIPTION:Für everything is in everything – Corps de Ballet bringen die Choreografin und Tänzerin Elizabeth Ward und der Technoproduzent AC/Boy eine dunkle Atmosphäre ins brut. Mit der rohen Energie eines Livekonzerts und ekstatischem Tanz beleuchten Ward und AC/Boy die formale Strenge\, den „Esprit de Corps“ und den Kollektivismus\, die Ballett und Techno gleichermaßen verbinden. \nAuf der Bühne treffen PerformerInnen mit unterschiedlichen Tanz-\, Performance-\, und Körperschulungen zusammen. Unter den harten Synthetizers und Beats des Konzerts werden die tanzenden Körper eins und fügen sich jenseits von strikter Ordnung zu einem Sozialgefüge. Ein dichter technoider Corps de Ballett entsteht\, der rohe\, ursprüngliche Energien\, freisetzt. \n
URL:https://www.strawanzerin.at/termin/elizabeth-ward-acboy-everything-is-in-everything/2016-11-04/
LOCATION:brut im Künstlerhaus\, Karlsplatz 5\, Wien\, 1010\, Österreich
CATEGORIES:ab 7,Sonstiges,Tanz,Wien
ATTACH;FMTTYPE=image/jpeg:https://www.strawanzerin.at/wp-content/uploads/2016/10/Hungry-Sharks_credit_Dusana-Baltic_min.jpg
GEO:48.200534;16.3715493
X-APPLE-STRUCTURED-LOCATION;VALUE=URI;X-ADDRESS=brut im Künstlerhaus Karlsplatz 5 Wien 1010 Österreich;X-APPLE-RADIUS=500;X-TITLE=Karlsplatz 5:geo:16.3715493,48.200534
END:VEVENT
END:VCALENDAR