BEGIN:VCALENDAR
VERSION:2.0
PRODID:-//STRAWANZERIN - ECPv4.9.5//NONSGML v1.0//EN
CALSCALE:GREGORIAN
METHOD:PUBLISH
X-WR-CALNAME:STRAWANZERIN
X-ORIGINAL-URL:https://www.strawanzerin.at
X-WR-CALDESC:Veranstaltungen im STRAWANZERIN
BEGIN:VTIMEZONE
TZID:"Europe/Vienna"
BEGIN:DAYLIGHT
TZOFFSETFROM:+0100
TZOFFSETTO:+0200
TZNAME:CEST
DTSTART:20230326T010000
END:DAYLIGHT
BEGIN:STANDARD
TZOFFSETFROM:+0200
TZOFFSETTO:+0100
TZNAME:CET
DTSTART:20231029T010000
END:STANDARD
END:VTIMEZONE
BEGIN:VEVENT
DTSTART;TZID="Europe/Vienna":20230411T143000
DTEND;TZID="Europe/Vienna":20230523T153000
DTSTAMP:20260421T222742
CREATED:20230323T071853Z
LAST-MODIFIED:20230323T071853Z
UID:89990-1681223400-1684855800@www.strawanzerin.at
SUMMARY:Eltern-Kind-Tanzraum (3-5 Jahre)
DESCRIPTION:Spielerisch und forschend. Inspiriert durch Musik\, Rhythmus\, Geschichten\, Lieder und Märchen. Mit Elementen aus Improvisation und Contact-Improvisation. Tanz\, Bewegung\, Spaß und Gemeinsame Zeit für Kinder und ihre (Groß)Eltern. \n
URL:https://www.strawanzerin.at/termin/eltern-kind-tanzraum-3-5-jahre/2023-04-11/
LOCATION:VHS Wiener Urania\, Uraniastraße 1\, Wien\, Wien\, 1010\, Österreich
CATEGORIES:Kinderkultur
ATTACH;FMTTYPE=image/jpeg:https://www.strawanzerin.at/wp-content/uploads/2023/03/20060719_Wiener-Urania-c-VHS-Wiener-Urania_KLEINER-1.jpg
ORGANIZER;CN="VHS%20Wiener%20Urania":MAILTO:urania@vhs.at
END:VEVENT
END:VCALENDAR